Workbook

Sheet 매출증감표·휴업률
B2: OO주식회사 / 000-00-0000-0
B4: 연도 | C4: 2026 | I4: →셀 제외하고 입력
B5: 고용유지 시작 월 | C5: 2
B6: 조치 종류 | C6: 유급휴업
B8: ▶기준 달의 매출액이 직전 6개월 월평균 매출액 대비 15% 이상 감소
B9: 매출액 | C9: =MONTH(EOMONTH(DATE(YEAR(NOW()),C5,1),-7))&"월" -> 7월 | D9: =MONTH(EOMONTH(DATE(YEAR(NOW()),C5,1),-6))&"월" -> 8월 | E9: =MONTH(EOMONTH(DATE(YEAR(NOW()),C5,1),-5))&"월" -> 9월 | F9: =MONTH(EOMONTH(DATE(YEAR(NOW()),C5,1),-4))&"월" -> 10월 | G9: =MONTH(EOMONTH(DATE(YEAR(NOW()),C5,1),-3))&"월" -> 11월 | H9: =MONTH(EOMONTH(DATE(YEAR(NOW()),C5,1),-2))&"월" -> 12월 | I9: 평균
C10: 130574717 | D10: 141247058 | E10: 160638978 | F10: 183681769 | G10: 95396493 | H10: 89912799 | I10: =AVERAGE(C10:H10) -> 1.335753e+08
B11: =MONTH(EOMONTH(DATE(YEAR(NOW()),C5,1),-1))&"월 매출액(기준 달)" -> 1월 매출액(기준 달) | C11: 122994428 | F11: 증감 내역 | G11: =TEXT((C11-I10)/I10,"0%")&IF((C11-I10)/I10<=-15%," (적합)"," (부적합)") -> -8% (부적합)
B14: ▶기준 달의 매출액과 직전 2분기의 분기별 월평균 매출액이 계속 감소 추세
B15: 직전 2분기 매출액 | F15: 직전 1분기 매출액
B16: =MONTH(EOMONTH(DATE(YEAR(NOW()),C5,1),-7))&"월" -> 7월 | C16: =MONTH(EOMONTH(DATE(YEAR(NOW()),C5,1),-6))&"월" -> 8월 | D16: =MONTH(EOMONTH(DATE(YEAR(NOW()),C5,1),-5))&"월" -> 9월 | E16: 평균 | F16: =MONTH(EOMONTH(DATE(YEAR(NOW()),C5,1),-4))&"월" -> 10월 | G16: =MONTH(EOMONTH(DATE(YEAR(NOW()),C5,1),-3))&"월" -> 11월 | H16: =MONTH(EOMONTH(DATE(YEAR(NOW()),C5,1),-2))&"월" -> 12월 | I16: 평균
B17: =C10 -> 130574717 | C17: =D10 -> 141247058 | D17: =E10 -> 160638978 | E17: =AVERAGE(B17:D17) -> 1.4415358e+08 | F17: =F10 -> 183681769 | G17: =G10 -> 95396493 | H17: =H10 -> 89912799 | I17: =AVERAGE(F17:H17) -> 1.2299702e+08
B18: =MONTH(EOMONTH(DATE(YEAR(NOW()),C5,1),-1))&"월 매출액(기준 달)" -> 1월 매출액(기준 달) | C18: =C11 -> 122994428 | F18: 감소 추세 | G18: =IF(AND(E17>I17,I17>C18),"감소(적합)","증가(부적합)") -> 감소(적합)
B20: ▶근로시간 단축률
B21: 전체 피보험자수 | C21: 5 | D21: 유지조치 근로자수 | E21: 3 | F21: 소정근로일수 | G21: =NETWORKDAYS(DATE($C$4,$C$5,1),EOMONTH(DATE($C$4,$C$5,1),0),공휴일데이터!A:A) -> 17
B22: 전체 소정근로시간 | C22: 612 | D22: 단축시간 | E22: 316 | F22: 단축률 | G22: =TEXT(E22/C22,"0%")&IF(E22/C22>20%," (적합)"," (부적합)") -> 52% (적합)

Sheet 휴업시간산정
B2: 연도 | C2: 2026 | E2: 년
B3: 고용유지조치 월 | C3: 2 | E3: 월
B4: 주휴설정 | C4: 일요일 유급
B5: 공휴일유급설정 | C5: 무급
B6: 유급일+주휴 | C6: =IF($C$5="무급",_xlfn.NETWORKDAYS.INTL(DATE($C$2,$C$3,1),EOMONTH(DATE($C$2,$C$3,1),0),1,INDEX(--(공휴일데이터!$A$1:$A$500),0)),_xlfn.NETWORKDAYS.INTL(DATE($C$2,$C$3,1),EOMONTH(DATE($C$2,$C$3,1),0),1))+SUMPRODUCT(1*(((OR($C$4="일요일 유급",$C$4="토·일 유급"))*(WEEKDAY(DATE($C$2,$C$3,ROW(INDIRECT("1:"&DAY(EOMONTH(DATE($C$2,$C$3,1),0))))))=1))+((OR($C$4="토요일 유급",$C$4="토·일 유급"))*(WEEKDAY(DATE($C$2,$C$3,ROW(INDIRECT("1:"&DAY(EOMONTH(DATE($C$2,$C$3,1),0))))))=7)))) -> 21
B7: 이달의 휴업지원일 | C7: =MAX(AI15:AI44) -> 17
B9: ■ 휴업수당 지급 기준 - 1주간의 소정근로일 전체를 휴업하고 유급주휴일에 휴업수당을 지급한 경우 지원금 지급(미지급시 지원하지 않음) - 약정휴일이 1일인 경우: 약정휴일이 속한 주의 소정근로일 전체를 휴업하고 휴업수당을 지급한 경우 지원금 지급(미지급시 지원하지 않음) - 1주간의 약정휴일이 2일 이상인 경우: 약정휴일이 속한 주를 포함하여 주간 소정근로일 전체를 휴업한 주수만큼의 약정휴일에 대하여 지원금 지급(미지급시 지원하지 않음) (*1주간의 기간은 역월상의 기간이 아닌 휴업일 초일부터 기산하여 7일로 계산, 연속하여 2주간 휴업시 2일, 연속하여 3주간 휴업시 3일) - 연월차 유급휴가, 하계, 경조휴가는 휴업수당 지원금 미지급
AI11: 휴업시간 계: | AJ11: =SUM(AJ15:AJ44) -> 316
B13: 요일,날짜 근로자 | C13: =TEXT(C14,"aaa") -> 일 | D13: =TEXT(D14,"aaa") -> 월 | E13: =TEXT(E14,"aaa") -> 화 | F13: =TEXT(F14,"aaa") -> 수 | G13: =TEXT(G14,"aaa") -> 목 | H13: =TEXT(H14,"aaa") -> 금 | I13: =TEXT(I14,"aaa") -> 토 | J13: =TEXT(J14,"aaa") -> 일 | ... AG13: =TEXT(AG14,"aaa") | AH13: *일소정 근로시간 | AI13: 인정 휴업일수 | AJ13: 총휴업시간 | AK13: 휴업 외 유급시간
C14: =DATE($C$2,$C$3,1) -> 46054 | D14: =IF(C14="","",IF(MONTH(C14+1)=$C$3,C14+1,"")) -> 46055 | E14: =IF(D14="","",IF(MONTH(D14+1)=$C$3,D14+1,"")) -> 46056 | F14: =IF(E14="","",IF(MONTH(E14+1)=$C$3,E14+1,"")) -> 46057 | G14: =IF(F14="","",IF(MONTH(F14+1)=$C$3,F14+1,"")) -> 46058 | H14: =IF(G14="","",IF(MONTH(G14+1)=$C$3,G14+1,"")) -> 46059 | I14: =IF(H14="","",IF(MONTH(H14+1)=$C$3,H14+1,"")) -> 46060 | J14: =IF(I14="","",IF(MONTH(I14+1)=$C$3,I14+1,"")) -> 46061 | K14: =IF(J14="","",IF(MONTH(J14+1)=$C$3,J14+1,"")) -> 46062 | ... AG14: =IF(AF14="","",IF(MONTH(AF14+1)=$C$3,AF14+1,""))
B15: 홍길동 | D15: 8 | E15: 8 | F15: 8 | G15: 8 | H15: 8 | K15: 8 | L15: 8 | M15: 8 | N15: 8 | O15: 8 | U15: 8 | V15: 8 | Y15: 8 | Z15: 8 | AA15: 8 | AB15: 8 | AC15: 8 | AH15: 8 | AI15: =COUNTIF(C15:AG15,">0") -> 17 | AJ15: =SUM(C15:AF15) -> 136 | AK15: =$C$6*AH15-AJ15 -> 32
B16: 김영희 | D16: 8 | E16: 8 | F16: 8 | G16: 8 | H16: 8 | K16: 8 | L16: 8 | M16: 8 | N16: 8 | O16: 8 | U16: 8 | V16: 8 | Y16: 8 | Z16: 8 | AA16: 8 | AB16: 8 | AC16: 8 | AH16: 8 | AI16: =COUNTIF(C16:AG16,">0") -> 17 | AJ16: =SUM(C16:AF16) -> 136 | AK16: =$C$6*AH16-AJ16 -> 32
B17: 박철수 | D17: 4 | E17: 4 | F17: 4 | G17: 4 | H17: 4 | K17: 4 | L17: 4 | M17: 4 | N17: 4 | O17: 4 | U17: 4 | AH17: 4 | AI17: =COUNTIF(C17:AG17,">0") -> 11 | AJ17: =SUM(C17:AF17) -> 44 | AK17: =$C$6*AH17-AJ17 -> 40
AI18: =COUNTIF(C18:AG18,">0") -> 0 | AJ18: =SUM(C18:AF18) -> 0 | AK18: =$C$6*AH18-AJ18 -> 0
AI19: =COUNTIF(C19:AG19,">0") -> 0 | AJ19: =SUM(C19:AF19) -> 0 | AK19: =$C$6*AH19-AJ19 -> 0
AI20: =COUNTIF(C20:AG20,">0") -> 0 | AJ20: =SUM(C20:AF20) -> 0 | AK20: =$C$6*AH20-AJ20 -> 0
AI21: =COUNTIF(C21:AG21,">0") -> 0 | AJ21: =SUM(C21:AF21) -> 0 | AK21: =$C$6*AH21-AJ21 -> 0
AI22: =COUNTIF(C22:AG22,">0") -> 0 | AJ22: =SUM(C22:AF22) -> 0 | AK22: =$C$6*AH22-AJ22 -> 0
AI23: =COUNTIF(C23:AG23,">0") -> 0 | AJ23: =SUM(C23:AF23) -> 0 | AK23: =$C$6*AH23-AJ23 -> 0
AI24: =COUNTIF(C24:AG24,">0") -> 0 | AJ24: =SUM(C24:AF24) -> 0 | AK24: =$C$6*AH24-AJ24 -> 0
AI25: =COUNTIF(C25:AG25,">0") -> 0 | AJ25: =SUM(C25:AF25) -> 0 | AK25: =$C$6*AH25-AJ25 -> 0
AI26: =COUNTIF(C26:AG26,">0") -> 0 | AJ26: =SUM(C26:AF26) -> 0 | AK26: =$C$6*AH26-AJ26 -> 0
AI27: =COUNTIF(C27:AG27,">0") -> 0 | AJ27: =SUM(C27:AF27) -> 0 | AK27: =$C$6*AH27-AJ27 -> 0
AI28: =COUNTIF(C28:AG28,">0") -> 0 | AJ28: =SUM(C28:AF28) -> 0 | AK28: =$C$6*AH28-AJ28 -> 0
AI29: =COUNTIF(C29:AG29,">0") -> 0 | AJ29: =SUM(C29:AF29) -> 0 | AK29: =$C$6*AH29-AJ29 -> 0
... AI44: =COUNTIF(C44:AG44,">0") -> 0 | AJ44: =SUM(C44:AF44) -> 0 | AK44: =$C$6*AH44-AJ44 -> 0

Sheet 공휴일데이터
A1: 45658
A2: 45685
A3: 45686
A4: 45687
A5: 45717
A6: 45719 | B6: (대체)
A7: 45778
A8: 45782
A9: 45783
A10: 45814
A11: 45884
A12: 45933
A13: 45935
A14: 45936
A15: 45937 | B15: (대체)
A16: 45938 | B16: (대체)
A17: 45939
A18: 46016
A19: 46023
A20: 46069
A21: 46070
A22: 46071
A23: 46082
A24: 46083 | B24: (대체)
A25: 46143
A26: 46147
A27: 46166
A28: 46167 | B28: (대체)
A29: 46176 | B29: (지방선거)
A30: 46179
A31: 46220
A32: 46249
A33: 46251 | B33: (대체)
A34: 46289
A35: 46290
A36: 46291
A37: 46298
A38: 46300 | B38: (대체)
A39: 46304
A40: 46381
A41: 46388
A42: 46424
A43: 46425
A44: 46426
A45: 46427 | B45: (대체)
A46: 46447
A47: 46508
A48: 46512
A49: 46520 | B49: (부처님오신날)
A50: 46544
A51: 46585 | B51: (대체)
A52: 46614
A53: 46615 | B53: (대체)
A54: 46644
A55: 46645
A56: 46646
A57: 46663
A58: 46664 | B58: (대체)
A59: 46669
A60: 46746
A61: 46753
A62: 46778
A63: 46779
A64: 46780
A65: 46813
A66: 46874
A67: 46875 | B67: (부처님오신날)
A68: 46878
A69: 46910
A70: 46951
A71: 46980
A72: 47028
A73: 47029
A74: 47030
A75: 47031 | B75: (대체)
A76: 47035
A77: 47112
A78: 47119
A79: 47161
A80: 47162
A81: 47163
A82: 47178
A83: 47239
A84: 47243
A85: 47245 | B85: (대체)
A86: 47258 | B86: (부처님오신날)
A87: 47259 | B87: (대체)
A88: 47275
A89: 47316
A90: 47345
A91: 47382
A92: 47383
A93: 47384
A94: 47385 | B94: (대체)
A95: 47394
A96: 47400
A97: 47477
A98: 47484
A99: 47516
A100: 47517
...

Sheet 휴업휴직수당산정
B2: =매출증감표·휴업률!B2 -> OO주식회사 / 000-00-0000-0
B4: ▸조치월 : | C4: 2
B5: ▸1일 한도: | C5: 68100
B6: ▸지급기준: | C6: 평균임금 70%
B8: 연번 | C8: 성명 | D8: 평균임금 산정내역 | M8: 통상임금 산정내역
D9: =MONTH(EOMONTH(DATE(YEAR(NOW()),C4,1),-3))&"월" -> 11월 | E9: =MONTH(EOMONTH(DATE(YEAR(NOW()),C4,1),-2))&"월" -> 12월 | F9: =MONTH(EOMONTH(DATE(YEAR(NOW()),C4,1),-1))&"월" -> 1월 | G9: 상여금 및 전년도미사용 연차수당 (연 합계의 1/4) | H9: 합계(a) | I9: 3개월 총일수(b) | J9: 일급*70% (c=a/b) | K9: 일근무시간 (d) | L9: 시간급 (e=c/d) | M9: 기본급 | N9: 식대 | O9: 직책수당 | P9: 차량유지비 | Q9: 고정연장 | R9: 휴일근로 | S9: 합계(a) | T9: 월 소정근로 시간(b) | U9: 시급 (c=a/b) | V9: 일근무시간 (d) | W9: 일급 (e=c*d)
B10: 1 | C10: =휴업시간산정!B15 -> 홍길동 | D10: 4008800 | E10: 4008800 | F10: 4008800 | G10: 0 | H10: =SUM(D10:G10) -> 12026400 | I10: =EOMONTH(DATE(YEAR(NOW()),$C$4,1),-1)-DATE(YEAR(NOW()),$C$4-3,1)+1 -> 92 | J10: =H10/I10*70% -> 91505.217 | K10: =휴업시간산정!AH15 -> 8 | L10: =J10/K10 -> 11438.152 | M10: 2758800 | N10: 100000 | O10: 700000 | P10: 50000 | Q10: 250000 | R10: 150000 | S10: =SUM(M10:O10) -> 3558800 | T10: =휴업시간산정!AH15*6*4.345 -> 208.56 | U10: =S10/T10 -> 17063.675 | V10: =K10 -> 8 | W10: =U10*V10 -> 136509.4
B11: 2 | C11: =휴업시간산정!B16 -> 김영희 | D11: 2935170 | E11: 2935170 | F11: 2935170 | G11: 0 | H11: =SUM(D11:G11) -> 8805510 | I11: =EOMONTH(DATE(YEAR(NOW()),$C$4,1),-1)-DATE(YEAR(NOW()),$C$4-3,1)+1 -> 92 | J11: =H11/I11*70% -> 66998.446 | K11: =휴업시간산정!AH16 -> 8 | L11: =J11/K11 -> 8374.8057 | M11: 2535170 | N11: 100000 | O11: 300000 | P11: 0 | Q11: 0 | R11: 0 | S11: =SUM(M11:O11) -> 2935170 | T11: =휴업시간산정!AH16*6*4.345 -> 208.56 | U11: =S11/T11 -> 14073.504 | V11: =K11 -> 8 | W11: =U11*V11 -> 112588.03
B12: 3 | C12: =휴업시간산정!B17 -> 박철수 | D12: 1300000 | E12: 1300000 | F12: 1300000 | G12: 0 | H12: =SUM(D12:G12) -> 3900000 | I12: =EOMONTH(DATE(YEAR(NOW()),$C$4,1),-1)-DATE(YEAR(NOW()),$C$4-3,1)+1 -> 92 | J12: =H12/I12*70% -> 29673.913 | K12: =휴업시간산정!AH17 -> 4 | L12: =J12/K12 -> 7418.4783 | M12: 1200000 | N12: 100000 | P12: 0 | Q12: 0 | R12: 0 | S12: =SUM(M12:O12) -> 1300000 | T12: =휴업시간산정!AH17*6*4.345 -> 104.28 | U12: =S12/T12 -> 12466.437 | V12: =K12 -> 4 | W12: =U12*V12 -> 49865.746
B13: 4 | C13: =휴업시간산정!B18 -> 0 | H13: =SUM(D13:G13) -> 0 | I13: =EOMONTH(DATE(YEAR(NOW()),$C$4,1),-1)-DATE(YEAR(NOW()),$C$4-3,1)+1 -> 92 | J13: =H13/I13*70% -> 0 | K13: =휴업시간산정!AH18 -> 0 | L13: =J13/K13 -> #DIV/0! | S13: =SUM(M13:Q13) -> 0 | T13: =휴업시간산정!AH18*6*4.345 -> 0 | U13: =S13/T13 -> #DIV/0! | V13: =K13 -> 0 | W13: =U13*V13 -> #DIV/0!
B14: 5 | C14: =휴업시간산정!B19 -> 0 | H14: =SUM(D14:G14) -> 0 | I14: =EOMONTH(DATE(YEAR(NOW()),$C$4,1),-1)-DATE(YEAR(NOW()),$C$4-3,1)+1 -> 92 | J14: =H14/I14*70% -> 0 | K14: =휴업시간산정!AH19 -> 0 | L14: =J14/K14 -> #DIV/0! | S14: =SUM(M14:Q14) -> 0 | T14: =휴업시간산정!AH19*6*4.345 -> 0 | U14: =S14/T14 -> #DIV/0! | V14: =K14 -> 0 | W14: =U14*V14 -> #DIV/0!
B15: 6 | C15: =휴업시간산정!B20 -> 0 | H15: =SUM(D15:G15) -> 0 | I15: =EOMONTH(DATE(YEAR(NOW()),$C$4,1),-1)-DATE(YEAR(NOW()),$C$4-3,1)+1 -> 92 | J15: =H15/I15*70% -> 0 | K15: =휴업시간산정!AH20 -> 0 | L15: =J15/K15 -> #DIV/0! | S15: =SUM(M15:Q15) -> 0 | T15: =휴업시간산정!AH20*6*4.345 -> 0 | U15: =S15/T15 -> #DIV/0! | V15: =K15 -> 0 | W15: =U15*V15 -> #DIV/0!
B16: 7 | C16: =휴업시간산정!B21 -> 0 | H16: =SUM(D16:G16) -> 0 | I16: =EOMONTH(DATE(YEAR(NOW()),$C$4,1),-1)-DATE(YEAR(NOW()),$C$4-3,1)+1 -> 92 | J16: =H16/I16*70% -> 0 | K16: =휴업시간산정!AH21 -> 0 | L16: =J16/K16 -> #DIV/0! | S16: =SUM(M16:Q16) -> 0 | T16: =휴업시간산정!AH21*6*4.345 -> 0 | U16: =S16/T16 -> #DIV/0! | V16: =K16 -> 0 | W16: =U16*V16 -> #DIV/0!
B17: 8 | C17: =휴업시간산정!B22 -> 0 | H17: =SUM(D17:G17) -> 0 | I17: =EOMONTH(DATE(YEAR(NOW()),$C$4,1),-1)-DATE(YEAR(NOW()),$C$4-3,1)+1 -> 92 | J17: =H17/I17*70% -> 0 | K17: =휴업시간산정!AH22 -> 0 | L17: =J17/K17 -> #DIV/0! | S17: =SUM(M17:Q17) -> 0 | T17: =휴업시간산정!AH22*6*4.345 -> 0 | U17: =S17/T17 -> #DIV/0! | V17: =K17 -> 0 | W17: =U17*V17 -> #DIV/0!
B18: 9 | C18: =휴업시간산정!B23 -> 0 | H18: =SUM(D18:G18) -> 0 | I18: =EOMONTH(DATE(YEAR(NOW()),$C$4,1),-1)-DATE(YEAR(NOW()),$C$4-3,1)+1 -> 92 | J18: =H18/I18*70% -> 0 | K18: =휴업시간산정!AH23 -> 0 | L18: =J18/K18 -> #DIV/0! | S18: =SUM(M18:Q18) -> 0 | T18: =휴업시간산정!AH23*6*4.345 -> 0 | U18: =S18/T18 -> #DIV/0! | V18: =K18 -> 0 | W18: =U18*V18 -> #DIV/0!
B19: 10 | C19: =휴업시간산정!B24 -> 0 | H19: =SUM(D19:G19) -> 0 | I19: =EOMONTH(DATE(YEAR(NOW()),$C$4,1),-1)-DATE(YEAR(NOW()),$C$4-3,1)+1 -> 92 | J19: =H19/I19*70% -> 0 | K19: =휴업시간산정!AH24 -> 0 | L19: =J19/K19 -> #DIV/0! | S19: =SUM(M19:Q19) -> 0 | T19: =휴업시간산정!AH24*6*4.345 -> 0 | U19: =S19/T19 -> #DIV/0! | V19: =K19 -> 0 | W19: =U19*V19 -> #DIV/0!
B20: 11 | C20: =휴업시간산정!B25 -> 0 | H20: =SUM(D20:G20) -> 0 | I20: =EOMONTH(DATE(YEAR(NOW()),$C$4,1),-1)-DATE(YEAR(NOW()),$C$4-3,1)+1 -> 92 | J20: =H20/I20*70% -> 0 | K20: =휴업시간산정!AH25 -> 0 | L20: =J20/K20 -> #DIV/0! | S20: =SUM(M20:Q20) -> 0 | T20: =휴업시간산정!AH25*6*4.345 -> 0 | U20: =S20/T20 -> #DIV/0! | V20: =K20 -> 0 | W20: =U20*V20 -> #DIV/0!
B21: 12 | C21: =휴업시간산정!B26 -> 0 | H21: =SUM(D21:G21) -> 0 | I21: =EOMONTH(DATE(YEAR(NOW()),$C$4,1),-1)-DATE(YEAR(NOW()),$C$4-3,1)+1 -> 92 | J21: =H21/I21*70% -> 0 | K21: =휴업시간산정!AH26 -> 0 | L21: =J21/K21 -> #DIV/0! | S21: =SUM(M21:Q21) -> 0 | T21: =휴업시간산정!AH26*6*4.345 -> 0 | U21: =S21/T21 -> #DIV/0! | V21: =K21 -> 0 | W21: =U21*V21 -> #DIV/0!
B22: 13 | C22: =휴업시간산정!B27 -> 0 | H22: =SUM(D22:G22) -> 0 | I22: =EOMONTH(DATE(YEAR(NOW()),$C$4,1),-1)-DATE(YEAR(NOW()),$C$4-3,1)+1 -> 92 | J22: =H22/I22*70% -> 0 | K22: =휴업시간산정!AH27 -> 0 | L22: =J22/K22 -> #DIV/0! | S22: =SUM(M22:Q22) -> 0 | T22: =휴업시간산정!AH27*6*4.345 -> 0 | U22: =S22/T22 -> #DIV/0! | V22: =K22 -> 0 | W22: =U22*V22 -> #DIV/0!
B23: 14 | C23: =휴업시간산정!B28 -> 0 | H23: =SUM(D23:G23) -> 0 | I23: =EOMONTH(DATE(YEAR(NOW()),$C$4,1),-1)-DATE(YEAR(NOW()),$C$4-3,1)+1 -> 92 | J23: =H23/I23*70% -> 0 | K23: =휴업시간산정!AH28 -> 0 | L23: =J23/K23 -> #DIV/0! | S23: =SUM(M23:Q23) -> 0 | T23: =휴업시간산정!AH28*6*4.345 -> 0 | U23: =S23/T23 -> #DIV/0! | V23: =K23 -> 0 | W23: =U23*V23 -> #DIV/0!
B24: 15 | C24: =휴업시간산정!B29 -> 0 | H24: =SUM(D24:G24) -> 0 | I24: =EOMONTH(DATE(YEAR(NOW()),$C$4,1),-1)-DATE(YEAR(NOW()),$C$4-3,1)+1 -> 92 | J24: =H24/I24*70% -> 0 | K24: =휴업시간산정!AH29 -> 0 | L24: =J24/K24 -> #DIV/0! | S24: =SUM(M24:Q24) -> 0 | T24: =휴업시간산정!AH29*6*4.345 -> 0 | U24: =S24/T24 -> #DIV/0! | V24: =K24 -> 0 | W24: =U24*V24 -> #DIV/0!
... B39: 30 | C39: =휴업시간산정!B44 -> 0 | H39: =SUM(D39:G39) -> 0 | I39: =EOMONTH(DATE(YEAR(NOW()),$C$4,1),-1)-DATE(YEAR(NOW()),$C$4-3,1)+1 -> 92 | J39: =H39/I39*70% -> 0 | K39: =휴업시간산정!AH44 -> 0 | L39: =J39/K39 -> #DIV/0! | S39: =SUM(M39:Q39) -> 0 | T39: =휴업시간산정!AH44*6*4.345 -> 0 | U39: =S39/T39 -> #DIV/0! | V39: =K39 -> 0 | W39: =U39*V39 -> #DIV/0!
