Workbook

Sheet 고용유지지원금 산출내역서
A2: ◇ 2026년 1월 유급 고용유지지원금 평균임금 산출내역 [(주)○○기업]
V3: (단위 :원)
A4: 번호 | B4: 성명 | C4: 평균임금 산정내역 | N4: 휴업수당 산정액(C) (C)=A*B | O4: 지원금 산정액(D) (D)=C*2/3 | P4: 지원금 한도액(E) (E)=B/(c)*68,100 | Q4: 지 급 결정액(F) (F)=D와E를 비교 적은 금액 | R4: 당월 전체 근로시간 | S4: 당월 실 휴업수당 지급액 | T4: 실지급 시급 (A) | U4: 지원시간 (B) | V4: 비고
C5: 전전전월 (25년 10월) | D5: 전전월 (25년 11월) | E5: 전월 (25년 12월) | F5: 상여금 및 연차수당 | G5: 합계(a) | H5: 직전3개월 총일수(b) | I5: 주 소정근로시간 | J5: 주 소정근무일 | K5: 일 소정근로시간(c) | L5: 평균임금 시급(d=a/b/c) | M5: 휴업수당 최소 지급 시급(d*70%)
A6: 1 | G6: =SUM(C6:F6) -> 0 | L6: =G6/H6/K6 -> #DIV/0! | M6: =L6*7/10 -> #DIV/0! | N6: =#REF!*#REF! -> #REF! | O6: =N6*2/3 -> #REF! | P6: =#REF!/K6*66000 -> #REF! | Q6: =IF(O6<P6,O6,(IF(O6>P6,P6))) -> #REF! | T6: =S6/R6 -> #DIV/0! | U6: ='휴업수당 대상자'!AI5 -> 0 | X6: =VLOOKUP(B6,'[C:/D. 인사/pay/02. 급.상여/▶2025년/01.관리직급여/2025 급여대장.xlsx]고용유지 지원-4월'!$B$5:$BD$31,55,0) -> #N/A | Y6: =X6-Q6 -> #N/A
A7: 2 | G7: =SUM(C7:F7) -> 0 | L7: =G7/H7/K7 -> #DIV/0! | M7: =L7*7/10 -> #DIV/0! | N7: =#REF!*#REF! -> #REF! | O7: =N7*2/3 -> #REF! | P7: =#REF!/K7*66000 -> #REF! | Q7: =IF(O7<P7,O7,(IF(O7>P7,P7))) -> #REF! | T7: =S7/R7 -> #DIV/0! | U7: ='휴업수당 대상자'!AI6 -> 0 | X7: =VLOOKUP(B7,'[C:/D. 인사/pay/02. 급.상여/▶2025년/01.관리직급여/2025 급여대장.xlsx]고용유지 지원-4월'!$B$5:$BD$31,55,0) -> #N/A | Y7: =X7-Q7 -> #N/A
A8: 3 | G8: =SUM(C8:F8) -> 0 | L8: =G8/H8/K8 -> #DIV/0! | M8: =L8*7/10 -> #DIV/0! | N8: =#REF!*#REF! -> #REF! | O8: =N8*2/3 -> #REF! | P8: =#REF!/K8*66000 -> #REF! | Q8: =IF(O8<P8,O8,(IF(O8>P8,P8))) -> #REF! | T8: =S8/R8 -> #DIV/0! | U8: ='휴업수당 대상자'!AI7 -> 0 | X8: =VLOOKUP(B8,'[C:/D. 인사/pay/02. 급.상여/▶2025년/01.관리직급여/2025 급여대장.xlsx]고용유지 지원-4월'!$B$5:$BD$31,55,0) -> #N/A | Y8: 11
A9: 4 | G9: =SUM(C9:F9) -> 0 | L9: =G9/H9/K9 -> #DIV/0! | M9: =L9*7/10 -> #DIV/0! | N9: =#REF!*#REF! -> #REF! | O9: =N9*2/3 -> #REF! | P9: =#REF!/K9*66000 -> #REF! | Q9: =IF(O9<P9,O9,(IF(O9>P9,P9))) -> #REF! | T9: =S9/R9 -> #DIV/0! | U9: ='휴업수당 대상자'!AI8 -> 0 | X9: =VLOOKUP(B9,'[C:/D. 인사/pay/02. 급.상여/▶2025년/01.관리직급여/2025 급여대장.xlsx]고용유지 지원-4월'!$B$5:$BD$31,55,0) -> #N/A | Y9: =X9-Q9 -> #N/A
A10: 5 | G10: =SUM(C10:F10) -> 0 | L10: =G10/H10/K10 -> #DIV/0! | M10: =L10*7/10 -> #DIV/0! | N10: =#REF!*#REF! -> #REF! | O10: =N10*2/3 -> #REF! | P10: =#REF!/K10*66000 -> #REF! | Q10: =IF(O10<P10,O10,(IF(O10>P10,P10))) -> #REF! | T10: =S10/R10 -> #DIV/0! | U10: ='휴업수당 대상자'!AI9 -> 0 | X10: =VLOOKUP(B10,'[C:/D. 인사/pay/02. 급.상여/▶2025년/01.관리직급여/2025 급여대장.xlsx]고용유지 지원-4월'!$B$5:$BD$31,55,0) -> #N/A | Y10: =X10-Q10 -> #N/A
A11: 6 | G11: =SUM(C11:F11) -> 0 | L11: =G11/H11/K11 -> #DIV/0! | M11: =L11*7/10 -> #DIV/0! | N11: =#REF!*#REF! -> #REF! | O11: =N11*2/3 -> #REF! | P11: =#REF!/K11*66000 -> #REF! | Q11: =IF(O11<P11,O11,(IF(O11>P11,P11))) -> #REF! | T11: =S11/R11 -> #DIV/0! | U11: ='휴업수당 대상자'!AI10 -> 0 | X11: =VLOOKUP(B11,'[C:/D. 인사/pay/02. 급.상여/▶2025년/01.관리직급여/2025 급여대장.xlsx]고용유지 지원-4월'!$B$5:$BD$31,55,0) -> #N/A | Y11: =X11-Q11 -> #N/A
A12: 7 | G12: =SUM(C12:F12) -> 0 | L12: =G12/H12/K12 -> #DIV/0! | M12: =L12*7/10 -> #DIV/0! | N12: =#REF!*#REF! -> #REF! | O12: =N12*2/3 -> #REF! | P12: =#REF!/K12*66000 -> #REF! | Q12: =IF(O12<P12,O12,(IF(O12>P12,P12))) -> #REF! | T12: =S12/R12 -> #DIV/0! | U12: ='휴업수당 대상자'!AI11 -> 0 | X12: =VLOOKUP(B12,'[C:/D. 인사/pay/02. 급.상여/▶2025년/01.관리직급여/2025 급여대장.xlsx]고용유지 지원-4월'!$B$5:$BD$31,55,0) -> #N/A | Y12: =X12-Q12 -> #N/A
A13: 8 | G13: =SUM(C13:F13) -> 0 | L13: =G13/H13/K13 -> #DIV/0! | M13: =L13*7/10 -> #DIV/0! | N13: =#REF!*#REF! -> #REF! | O13: =N13*2/3 -> #REF! | P13: =#REF!/K13*66000 -> #REF! | Q13: =IF(O13<P13,O13,(IF(O13>P13,P13))) -> #REF! | T13: =S13/R13 -> #DIV/0! | U13: ='휴업수당 대상자'!AI12 -> 0 | X13: =VLOOKUP(B13,'[C:/D. 인사/pay/02. 급.상여/▶2025년/01.관리직급여/2025 급여대장.xlsx]고용유지 지원-4월'!$B$5:$BD$31,55,0) -> #N/A | Y13: =X13-Q13 -> #N/A
A14: 9 | G14: =SUM(C14:F14) -> 0 | L14: =G14/H14/K14 -> #DIV/0! | M14: =L14*7/10 -> #DIV/0! | N14: =#REF!*#REF! -> #REF! | O14: =N14*2/3 -> #REF! | P14: =#REF!/K14*66000 -> #REF! | Q14: =IF(O14<P14,O14,(IF(O14>P14,P14))) -> #REF! | T14: =S14/R14 -> #DIV/0! | U14: ='휴업수당 대상자'!AI13 -> 0 | X14: =VLOOKUP(B14,'[C:/D. 인사/pay/02. 급.상여/▶2025년/01.관리직급여/2025 급여대장.xlsx]고용유지 지원-4월'!$B$5:$BD$31,55,0) -> #N/A | Y14: =X14-Q14 -> #N/A
A15: 10 | G15: =SUM(C15:F15) -> 0 | L15: =G15/H15/K15 -> #DIV/0! | M15: =L15*7/10 -> #DIV/0! | N15: =#REF!*#REF! -> #REF! | O15: =N15*2/3 -> #REF! | P15: =#REF!/K15*66000 -> #REF! | Q15: =IF(O15<P15,O15,(IF(O15>P15,P15))) -> #REF! | T15: =S15/R15 -> #DIV/0! | U15: ='휴업수당 대상자'!AI14 -> 0 | X15: =VLOOKUP(B15,'[C:/D. 인사/pay/02. 급.상여/▶2025년/01.관리직급여/2025 급여대장.xlsx]고용유지 지원-4월'!$B$5:$BD$31,55,0) -> #N/A | Y15: =X15-Q15 -> #N/A
A16: 11 | G16: =SUM(C16:F16) -> 0 | L16: =G16/H16/K16 -> #DIV/0! | M16: =L16*7/10 -> #DIV/0! | N16: =#REF!*#REF! -> #REF! | O16: =N16*2/3 -> #REF! | P16: =#REF!/K16*66000 -> #REF! | Q16: =IF(O16<P16,O16,(IF(O16>P16,P16))) -> #REF! | T16: =S16/R16 -> #DIV/0! | U16: ='휴업수당 대상자'!AI15 -> 0 | X16: =VLOOKUP(B16,'[C:/D. 인사/pay/02. 급.상여/▶2025년/01.관리직급여/2025 급여대장.xlsx]고용유지 지원-4월'!$B$5:$BD$31,55,0) -> #N/A | Y16: =X16-Q16 -> #N/A
A17: 12 | G17: =SUM(C17:F17) -> 0 | L17: =G17/H17/K17 -> #DIV/0! | M17: =L17*7/10 -> #DIV/0! | N17: =#REF!*#REF! -> #REF! | O17: =N17*2/3 -> #REF! | P17: =#REF!/K17*66000 -> #REF! | Q17: =IF(O17<P17,O17,(IF(O17>P17,P17))) -> #REF! | T17: =S17/R17 -> #DIV/0! | U17: ='휴업수당 대상자'!AI16 -> 0 | X17: =VLOOKUP(B17,'[C:/D. 인사/pay/02. 급.상여/▶2025년/01.관리직급여/2025 급여대장.xlsx]고용유지 지원-4월'!$B$5:$BD$31,55,0) -> #N/A | Y17: =X17-Q17 -> #N/A
M18: 총계 | R18: =SUM(R6:R17) -> 0 | U18: =SUM(U6:U17) -> 0

Sheet 휴업수당 대상자
A1: [별지1] | B1: [ 2026년 1월 실 휴업시간 ]
A3: 순번 | B3: 주민등록 | C3: 성명 | D3: 1 | E3: 2 | F3: 3 | G3: 4 | H3: 5 | I3: 6 | J3: 7 | K3: 8 | L3: 9 | M3: 10 | N3: 11 | O3: 12 | P3: 13 | Q3: 14 | R3: 15 | S3: 16 | T3: 17 | U3: 18 | V3: 19 | W3: 20 | X3: 21 | Y3: 22 | Z3: 23 | AA3: 24 | AB3: 25 | AC3: 26 | AD3: 27 | AE3: 28 | AF3: 29 | AG3: 30 | AH3: 31 | AI3: 지원시간
B4: (앞자리) | D4: 목 | E4: 금 | F4: 토 | G4: 일 | H4: 월 | I4: 화 | J4: 수 | K4: 목 | L4: 금 | M4: 토 | N4: 일 | O4: 월 | P4: 화 | Q4: 수 | R4: 목 | S4: 금 | T4: 토 | U4: 일 | V4: 월 | W4: 화 | X4: 수 | Y4: 목 | Z4: 금 | AA4: 토 | AB4: 일 | AC4: 월 | AD4: 화 | AE4: 수 | AF4: 목 | AG4: 금 | AH4: 토
A5: 1 | AI5: =SUM(D5:AH5) -> 0
A6: 2 | AI6: =SUM(D6:AH6) -> 0
A7: 3 | AI7: =SUM(D7:AH7) -> 0
A8: 4 | AI8: =SUM(D8:AH8) -> 0
A9: 5 | AI9: =SUM(D9:AH9) -> 0
A10: 6 | AI10: =SUM(D10:AH10) -> 0
A11: 7 | AI11: =SUM(D11:AH11) -> 0
A12: 8 | AI12: =SUM(D12:AH12) -> 0
A13: 9 | AI13: =SUM(D13:AH13) -> 0
A14: 10 | AI14: =SUM(D14:AH14) -> 0
A15: 11 | AI15: =SUM(D15:AH15) -> 0
A16: 12 | AI16: =SUM(D16:AH16) -> 0
A17: 총계 | AI17: =SUM(AI5:AI16) -> 0

Sheet 세부산출내역
A1: [별지2] | B1: ◇ 2026년 1월 유급 고용유지지원금 산출내역 [(주)○○기업]
AA2: (단위: 원)
A3: 순번 | B3: 주민등록 | C3: 성명 | D3: 지원시간 | E3: 지원일수 | F3: 일 지원시간 갯수 합계 | O3: 평균임금 시급 | P3: 시간당 일 지원금액(한도 적용) | Y3: 일 지급한도액 | Z3: 휴업수당액 | AA3: 지급결정액
B4: (앞자리) | F4: 1 | G4: 2 | H4: 3 | I4: 4 | J4: 5 | K4: 6 | L4: 7 | M4: 8 | N4: 9 | O4: 평균임금 시급(d=a/b/일 소정근로시간) | P4: 1 | Q4: 2 | R4: 3 | S4: 4 | T4: 5 | U4: 6 | V4: 7 | W4: 8 | X4: 9
A5: 1 | D5: ='휴업수당 대상자'!AI5 -> 0 | E5: =COUNTA('휴업수당 대상자'!D5:AH5) -> 0 | F5: =COUNTIF('휴업수당 대상자'!$D5:$AH5,1) -> 0 | G5: =COUNTIF('휴업수당 대상자'!$D5:$AH5,2) -> 0 | H5: =COUNTIF('휴업수당 대상자'!$D5:$AH5,3) -> 0 | I5: =COUNTIF('휴업수당 대상자'!$D5:$AH5,4) -> 0 | J5: =COUNTIF('휴업수당 대상자'!$D5:$AH5,5) -> 0 | K5: =COUNTIF('휴업수당 대상자'!$D5:$AH5,6) -> 0 | L5: =COUNTIF('휴업수당 대상자'!$D5:$AH5,7) -> 0 | M5: =COUNTIF('휴업수당 대상자'!$D5:$AH5,8) -> 0 | N5: =COUNTIF('휴업수당 대상자'!$D5:$AH5,9) -> 0 | O5: ='고용유지지원금 산출내역서'!T6 -> #DIV/0! | P5: =MIN((($O5*P$4)/3*2),68100) -> #DIV/0! | Q5: =MIN((($O5*Q$4)/3*2),68100) -> #DIV/0! | R5: =MIN((($O5*R$4)/3*2),68100) -> #DIV/0! | S5: =MIN((($O5*S$4)/3*2),68100) -> #DIV/0! | T5: =MIN((($O5*T$4)/3*2),68100) -> #DIV/0! | U5: =MIN((($O5*U$4)/3*2),68100) -> #DIV/0! | V5: =MIN((($O5*V$4)/3*2),68100) -> #DIV/0! | W5: =MIN((($O5*W$4)/3*2),68100) -> #DIV/0! | X5: =MIN((($O5*X$4)/3*2),68100) -> #DIV/0! | Y5: 66000 | Z5: =(AA5/2*3) -> #DIV/0! | AA5: =(F5*P5)+(G5*Q5)+(H5*R5)+(I5*S5)+(J5*T5)+(K5*U5)+(L5*V5)+(M5*W5)+(N5*X5) -> #DIV/0!
A6: 2 | D6: ='휴업수당 대상자'!AI6 -> 0 | E6: =COUNTA('휴업수당 대상자'!D6:AH6) -> 0 | F6: =COUNTIF('휴업수당 대상자'!$D6:$AH6,1) -> 0 | G6: =COUNTIF('휴업수당 대상자'!$D6:$AH6,2) -> 0 | H6: =COUNTIF('휴업수당 대상자'!$D6:$AH6,3) -> 0 | I6: =COUNTIF('휴업수당 대상자'!$D6:$AH6,4) -> 0 | J6: =COUNTIF('휴업수당 대상자'!$D6:$AH6,5) -> 0 | K6: =COUNTIF('휴업수당 대상자'!$D6:$AH6,6) -> 0 | L6: =COUNTIF('휴업수당 대상자'!$D6:$AH6,7) -> 0 | M6: =COUNTIF('휴업수당 대상자'!$D6:$AH6,8) -> 0 | N6: =COUNTIF('휴업수당 대상자'!$D6:$AH6,9) -> 0 | O6: ='고용유지지원금 산출내역서'!T7 -> #DIV/0! | P6: =MIN((($O6*P$4)/3*2),68100) -> #DIV/0! | Q6: =MIN((($O6*Q$4)/3*2),68100) -> #DIV/0! | R6: =MIN((($O6*R$4)/3*2),68100) -> #DIV/0! | S6: =MIN((($O6*S$4)/3*2),68100) -> #DIV/0! | T6: =MIN((($O6*T$4)/3*2),68100) -> #DIV/0! | U6: =MIN((($O6*U$4)/3*2),68100) -> #DIV/0! | V6: =MIN((($O6*V$4)/3*2),68100) -> #DIV/0! | W6: =MIN((($O6*W$4)/3*2),68100) -> #DIV/0! | X6: =MIN((($O6*X$4)/3*2),68100) -> #DIV/0! | Y6: 66000 | Z6: =AA6/2*3 -> #DIV/0! | AA6: =(F6*P6)+(G6*Q6)+(H6*R6)+(I6*S6)+(J6*T6)+(K6*U6)+(L6*V6)+(M6*W6)+(N6*X6) -> #DIV/0!
A7: 3 | D7: ='휴업수당 대상자'!AI7 -> 0 | E7: =COUNTA('휴업수당 대상자'!D7:AH7) -> 0 | F7: =COUNTIF('휴업수당 대상자'!$D7:$AH7,1) -> 0 | G7: =COUNTIF('휴업수당 대상자'!$D7:$AH7,2) -> 0 | H7: =COUNTIF('휴업수당 대상자'!$D7:$AH7,3) -> 0 | I7: =COUNTIF('휴업수당 대상자'!$D7:$AH7,4) -> 0 | J7: =COUNTIF('휴업수당 대상자'!$D7:$AH7,5) -> 0 | K7: =COUNTIF('휴업수당 대상자'!$D7:$AH7,6) -> 0 | L7: =COUNTIF('휴업수당 대상자'!$D7:$AH7,7) -> 0 | M7: =COUNTIF('휴업수당 대상자'!$D7:$AH7,8) -> 0 | N7: =COUNTIF('휴업수당 대상자'!$D7:$AH7,9) -> 0 | O7: ='고용유지지원금 산출내역서'!T8 -> #DIV/0! | P7: =MIN((($O7*P$4)/3*2),68100) -> #DIV/0! | Q7: =MIN((($O7*Q$4)/3*2),68100) -> #DIV/0! | R7: =MIN((($O7*R$4)/3*2),68100) -> #DIV/0! | S7: =MIN((($O7*S$4)/3*2),68100) -> #DIV/0! | T7: =MIN((($O7*T$4)/3*2),68100) -> #DIV/0! | U7: =MIN((($O7*U$4)/3*2),68100) -> #DIV/0! | V7: =MIN((($O7*V$4)/3*2),68100) -> #DIV/0! | W7: =MIN((($O7*W$4)/3*2),68100) -> #DIV/0! | X7: =MIN((($O7*X$4)/3*2),68100) -> #DIV/0! | Y7: 66000 | Z7: =AA7/2*3 -> #DIV/0! | AA7: =(F7*P7)+(G7*Q7)+(H7*R7)+(I7*S7)+(J7*T7)+(K7*U7)+(L7*V7)+(M7*W7)+(N7*X7) -> #DIV/0!
A8: 4 | D8: ='휴업수당 대상자'!AI8 -> 0 | E8: =COUNTA('휴업수당 대상자'!D8:AH8) -> 0 | F8: =COUNTIF('휴업수당 대상자'!$D8:$AH8,1) -> 0 | G8: =COUNTIF('휴업수당 대상자'!$D8:$AH8,2) -> 0 | H8: =COUNTIF('휴업수당 대상자'!$D8:$AH8,3) -> 0 | I8: =COUNTIF('휴업수당 대상자'!$D8:$AH8,4) -> 0 | J8: =COUNTIF('휴업수당 대상자'!$D8:$AH8,5) -> 0 | K8: =COUNTIF('휴업수당 대상자'!$D8:$AH8,6) -> 0 | L8: =COUNTIF('휴업수당 대상자'!$D8:$AH8,7) -> 0 | M8: =COUNTIF('휴업수당 대상자'!$D8:$AH8,8) -> 0 | N8: =COUNTIF('휴업수당 대상자'!$D8:$AH8,9) -> 0 | O8: ='고용유지지원금 산출내역서'!T9 -> #DIV/0! | P8: =MIN((($O8*P$4)/3*2),68100) -> #DIV/0! | Q8: =MIN((($O8*Q$4)/3*2),68100) -> #DIV/0! | R8: =MIN((($O8*R$4)/3*2),68100) -> #DIV/0! | S8: =MIN((($O8*S$4)/3*2),68100) -> #DIV/0! | T8: =MIN((($O8*T$4)/3*2),68100) -> #DIV/0! | U8: =MIN((($O8*U$4)/3*2),68100) -> #DIV/0! | V8: =MIN((($O8*V$4)/3*2),68100) -> #DIV/0! | W8: =MIN((($O8*W$4)/3*2),68100) -> #DIV/0! | X8: =MIN((($O8*X$4)/3*2),68100) -> #DIV/0! | Y8: 66000 | Z8: =AA8/2*3 -> #DIV/0! | AA8: =(F8*P8)+(G8*Q8)+(H8*R8)+(I8*S8)+(J8*T8)+(K8*U8)+(L8*V8)+(M8*W8)+(N8*X8) -> #DIV/0!
A9: 5 | D9: ='휴업수당 대상자'!AI9 -> 0 | E9: =COUNTA('휴업수당 대상자'!D9:AH9) -> 0 | F9: =COUNTIF('휴업수당 대상자'!$D9:$AH9,1) -> 0 | G9: =COUNTIF('휴업수당 대상자'!$D9:$AH9,2) -> 0 | H9: =COUNTIF('휴업수당 대상자'!$D9:$AH9,3) -> 0 | I9: =COUNTIF('휴업수당 대상자'!$D9:$AH9,4) -> 0 | J9: =COUNTIF('휴업수당 대상자'!$D9:$AH9,5) -> 0 | K9: =COUNTIF('휴업수당 대상자'!$D9:$AH9,6) -> 0 | L9: =COUNTIF('휴업수당 대상자'!$D9:$AH9,7) -> 0 | M9: =COUNTIF('휴업수당 대상자'!$D9:$AH9,8) -> 0 | N9: =COUNTIF('휴업수당 대상자'!$D9:$AH9,9) -> 0 | O9: ='고용유지지원금 산출내역서'!T10 -> #DIV/0! | P9: =MIN((($O9*P$4)/3*2),68100) -> #DIV/0! | Q9: =MIN((($O9*Q$4)/3*2),68100) -> #DIV/0! | R9: =MIN((($O9*R$4)/3*2),68100) -> #DIV/0! | S9: =MIN((($O9*S$4)/3*2),68100) -> #DIV/0! | T9: =MIN((($O9*T$4)/3*2),68100) -> #DIV/0! | U9: =MIN((($O9*U$4)/3*2),68100) -> #DIV/0! | V9: =MIN((($O9*V$4)/3*2),68100) -> #DIV/0! | W9: =MIN((($O9*W$4)/3*2),68100) -> #DIV/0! | X9: =MIN((($O9*X$4)/3*2),68100) -> #DIV/0! | Y9: 66000 | Z9: =AA9/2*3 -> #DIV/0! | AA9: =(F9*P9)+(G9*Q9)+(H9*R9)+(I9*S9)+(J9*T9)+(K9*U9)+(L9*V9)+(M9*W9)+(N9*X9) -> #DIV/0!
A10: 6 | D10: ='휴업수당 대상자'!AI10 -> 0 | E10: =COUNTA('휴업수당 대상자'!D10:AH10) -> 0 | F10: =COUNTIF('휴업수당 대상자'!$D10:$AH10,1) -> 0 | G10: =COUNTIF('휴업수당 대상자'!$D10:$AH10,2) -> 0 | H10: =COUNTIF('휴업수당 대상자'!$D10:$AH10,3) -> 0 | I10: =COUNTIF('휴업수당 대상자'!$D10:$AH10,4) -> 0 | J10: =COUNTIF('휴업수당 대상자'!$D10:$AH10,5) -> 0 | K10: =COUNTIF('휴업수당 대상자'!$D10:$AH10,6) -> 0 | L10: =COUNTIF('휴업수당 대상자'!$D10:$AH10,7) -> 0 | M10: =COUNTIF('휴업수당 대상자'!$D10:$AH10,8) -> 0 | N10: =COUNTIF('휴업수당 대상자'!$D10:$AH10,9) -> 0 | O10: ='고용유지지원금 산출내역서'!T11 -> #DIV/0! | P10: =MIN((($O10*P$4)/3*2),68100) -> #DIV/0! | Q10: =MIN((($O10*Q$4)/3*2),68100) -> #DIV/0! | R10: =MIN((($O10*R$4)/3*2),68100) -> #DIV/0! | S10: =MIN((($O10*S$4)/3*2),68100) -> #DIV/0! | T10: =MIN((($O10*T$4)/3*2),68100) -> #DIV/0! | U10: =MIN((($O10*U$4)/3*2),68100) -> #DIV/0! | V10: =MIN((($O10*V$4)/3*2),68100) -> #DIV/0! | W10: =MIN((($O10*W$4)/3*2),68100) -> #DIV/0! | X10: =MIN((($O10*X$4)/3*2),68100) -> #DIV/0! | Y10: 66000 | Z10: =AA10/2*3 -> #DIV/0! | AA10: =(F10*P10)+(G10*Q10)+(H10*R10)+(I10*S10)+(J10*T10)+(K10*U10)+(L10*V10)+(M10*W10)+(N10*X10) -> #DIV/0!
A11: 7 | D11: ='휴업수당 대상자'!AI11 -> 0 | E11: =COUNTA('휴업수당 대상자'!D11:AH11) -> 0 | F11: =COUNTIF('휴업수당 대상자'!$D11:$AH11,1) -> 0 | G11: =COUNTIF('휴업수당 대상자'!$D11:$AH11,2) -> 0 | H11: =COUNTIF('휴업수당 대상자'!$D11:$AH11,3) -> 0 | I11: =COUNTIF('휴업수당 대상자'!$D11:$AH11,4) -> 0 | J11: =COUNTIF('휴업수당 대상자'!$D11:$AH11,5) -> 0 | K11: =COUNTIF('휴업수당 대상자'!$D11:$AH11,6) -> 0 | L11: =COUNTIF('휴업수당 대상자'!$D11:$AH11,7) -> 0 | M11: =COUNTIF('휴업수당 대상자'!$D11:$AH11,8) -> 0 | N11: =COUNTIF('휴업수당 대상자'!$D11:$AH11,9) -> 0 | O11: ='고용유지지원금 산출내역서'!T12 -> #DIV/0! | P11: =MIN((($O11*P$4)/3*2),68100) -> #DIV/0! | Q11: =MIN((($O11*Q$4)/3*2),68100) -> #DIV/0! | R11: =MIN((($O11*R$4)/3*2),68100) -> #DIV/0! | S11: =MIN((($O11*S$4)/3*2),68100) -> #DIV/0! | T11: =MIN((($O11*T$4)/3*2),68100) -> #DIV/0! | U11: =MIN((($O11*U$4)/3*2),68100) -> #DIV/0! | V11: =MIN((($O11*V$4)/3*2),68100) -> #DIV/0! | W11: =MIN((($O11*W$4)/3*2),68100) -> #DIV/0! | X11: =MIN((($O11*X$4)/3*2),68100) -> #DIV/0! | Y11: 66000 | Z11: =AA11/2*3 -> #DIV/0! | AA11: =(F11*P11)+(G11*Q11)+(H11*R11)+(I11*S11)+(J11*T11)+(K11*U11)+(L11*V11)+(M11*W11)+(N11*X11) -> #DIV/0!
A12: 8 | D12: ='휴업수당 대상자'!AI12 -> 0 | E12: =COUNTA('휴업수당 대상자'!D12:AH12) -> 0 | F12: =COUNTIF('휴업수당 대상자'!$D12:$AH12,1) -> 0 | G12: =COUNTIF('휴업수당 대상자'!$D12:$AH12,2) -> 0 | H12: =COUNTIF('휴업수당 대상자'!$D12:$AH12,3) -> 0 | I12: =COUNTIF('휴업수당 대상자'!$D12:$AH12,4) -> 0 | J12: =COUNTIF('휴업수당 대상자'!$D12:$AH12,5) -> 0 | K12: =COUNTIF('휴업수당 대상자'!$D12:$AH12,6) -> 0 | L12: =COUNTIF('휴업수당 대상자'!$D12:$AH12,7) -> 0 | M12: =COUNTIF('휴업수당 대상자'!$D12:$AH12,8) -> 0 | N12: =COUNTIF('휴업수당 대상자'!$D12:$AH12,9) -> 0 | O12: ='고용유지지원금 산출내역서'!T13 -> #DIV/0! | P12: =MIN((($O12*P$4)/3*2),68100) -> #DIV/0! | Q12: =MIN((($O12*Q$4)/3*2),68100) -> #DIV/0! | R12: =MIN((($O12*R$4)/3*2),68100) -> #DIV/0! | S12: =MIN((($O12*S$4)/3*2),68100) -> #DIV/0! | T12: =MIN((($O12*T$4)/3*2),68100) -> #DIV/0! | U12: =MIN((($O12*U$4)/3*2),68100) -> #DIV/0! | V12: =MIN((($O12*V$4)/3*2),68100) -> #DIV/0! | W12: =MIN((($O12*W$4)/3*2),68100) -> #DIV/0! | X12: =MIN((($O12*X$4)/3*2),68100) -> #DIV/0! | Y12: 66000 | Z12: =AA12/2*3 -> #DIV/0! | AA12: =(F12*P12)+(G12*Q12)+(H12*R12)+(I12*S12)+(J12*T12)+(K12*U12)+(L12*V12)+(M12*W12)+(N12*X12) -> #DIV/0!
A13: 9 | D13: ='휴업수당 대상자'!AI13 -> 0 | E13: =COUNTA('휴업수당 대상자'!D13:AH13) -> 0 | F13: =COUNTIF('휴업수당 대상자'!$D13:$AH13,1) -> 0 | G13: =COUNTIF('휴업수당 대상자'!$D13:$AH13,2) -> 0 | H13: =COUNTIF('휴업수당 대상자'!$D13:$AH13,3) -> 0 | I13: =COUNTIF('휴업수당 대상자'!$D13:$AH13,4) -> 0 | J13: =COUNTIF('휴업수당 대상자'!$D13:$AH13,5) -> 0 | K13: =COUNTIF('휴업수당 대상자'!$D13:$AH13,6) -> 0 | L13: =COUNTIF('휴업수당 대상자'!$D13:$AH13,7) -> 0 | M13: =COUNTIF('휴업수당 대상자'!$D13:$AH13,8) -> 0 | N13: =COUNTIF('휴업수당 대상자'!$D13:$AH13,9) -> 0 | O13: ='고용유지지원금 산출내역서'!T14 -> #DIV/0! | P13: =MIN((($O13*P$4)/3*2),68100) -> #DIV/0! | Q13: =MIN((($O13*Q$4)/3*2),68100) -> #DIV/0! | R13: =MIN((($O13*R$4)/3*2),68100) -> #DIV/0! | S13: =MIN((($O13*S$4)/3*2),68100) -> #DIV/0! | T13: =MIN((($O13*T$4)/3*2),68100) -> #DIV/0! | U13: =MIN((($O13*U$4)/3*2),68100) -> #DIV/0! | V13: =MIN((($O13*V$4)/3*2),68100) -> #DIV/0! | W13: =MIN((($O13*W$4)/3*2),68100) -> #DIV/0! | X13: =MIN((($O13*X$4)/3*2),68100) -> #DIV/0! | Y13: 66000 | Z13: =AA13/2*3 -> #DIV/0! | AA13: =(F13*P13)+(G13*Q13)+(H13*R13)+(I13*S13)+(J13*T13)+(K13*U13)+(L13*V13)+(M13*W13)+(N13*X13) -> #DIV/0!
A14: 10 | D14: ='휴업수당 대상자'!AI14 -> 0 | E14: =COUNTA('휴업수당 대상자'!D14:AH14) -> 0 | F14: =COUNTIF('휴업수당 대상자'!$D14:$AH14,1) -> 0 | G14: =COUNTIF('휴업수당 대상자'!$D14:$AH14,2) -> 0 | H14: =COUNTIF('휴업수당 대상자'!$D14:$AH14,3) -> 0 | I14: =COUNTIF('휴업수당 대상자'!$D14:$AH14,4) -> 0 | J14: =COUNTIF('휴업수당 대상자'!$D14:$AH14,5) -> 0 | K14: =COUNTIF('휴업수당 대상자'!$D14:$AH14,6) -> 0 | L14: =COUNTIF('휴업수당 대상자'!$D14:$AH14,7) -> 0 | M14: =COUNTIF('휴업수당 대상자'!$D14:$AH14,8) -> 0 | N14: =COUNTIF('휴업수당 대상자'!$D14:$AH14,9) -> 0 | O14: ='고용유지지원금 산출내역서'!T15 -> #DIV/0! | P14: =MIN((($O14*P$4)/3*2),68100) -> #DIV/0! | Q14: =MIN((($O14*Q$4)/3*2),68100) -> #DIV/0! | R14: =MIN((($O14*R$4)/3*2),68100) -> #DIV/0! | S14: =MIN((($O14*S$4)/3*2),68100) -> #DIV/0! | T14: =MIN((($O14*T$4)/3*2),68100) -> #DIV/0! | U14: =MIN((($O14*U$4)/3*2),68100) -> #DIV/0! | V14: =MIN((($O14*V$4)/3*2),68100) -> #DIV/0! | W14: =MIN((($O14*W$4)/3*2),68100) -> #DIV/0! | X14: =MIN((($O14*X$4)/3*2),68100) -> #DIV/0! | Y14: 66000 | Z14: =AA14/2*3 -> #DIV/0! | AA14: =(F14*P14)+(G14*Q14)+(H14*R14)+(I14*S14)+(J14*T14)+(K14*U14)+(L14*V14)+(M14*W14)+(N14*X14) -> #DIV/0!
A15: 11 | D15: ='휴업수당 대상자'!AI15 -> 0 | E15: =COUNTA('휴업수당 대상자'!D15:AH15) -> 0 | F15: =COUNTIF('휴업수당 대상자'!$D15:$AH15,1) -> 0 | G15: =COUNTIF('휴업수당 대상자'!$D15:$AH15,2) -> 0 | H15: =COUNTIF('휴업수당 대상자'!$D15:$AH15,3) -> 0 | I15: =COUNTIF('휴업수당 대상자'!$D15:$AH15,4) -> 0 | J15: =COUNTIF('휴업수당 대상자'!$D15:$AH15,5) -> 0 | K15: =COUNTIF('휴업수당 대상자'!$D15:$AH15,6) -> 0 | L15: =COUNTIF('휴업수당 대상자'!$D15:$AH15,7) -> 0 | M15: =COUNTIF('휴업수당 대상자'!$D15:$AH15,8) -> 0 | N15: =COUNTIF('휴업수당 대상자'!$D15:$AH15,9) -> 0 | O15: ='고용유지지원금 산출내역서'!T16 -> #DIV/0! | P15: =MIN((($O15*P$4)/3*2),68100) -> #DIV/0! | Q15: =MIN((($O15*Q$4)/3*2),68100) -> #DIV/0! | R15: =MIN((($O15*R$4)/3*2),68100) -> #DIV/0! | S15: =MIN((($O15*S$4)/3*2),68100) -> #DIV/0! | T15: =MIN((($O15*T$4)/3*2),68100) -> #DIV/0! | U15: =MIN((($O15*U$4)/3*2),68100) -> #DIV/0! | V15: =MIN((($O15*V$4)/3*2),68100) -> #DIV/0! | W15: =MIN((($O15*W$4)/3*2),68100) -> #DIV/0! | X15: =MIN((($O15*X$4)/3*2),68100) -> #DIV/0! | Y15: 66000 | Z15: =AA15/2*3 -> #DIV/0! | AA15: =(F15*P15)+(G15*Q15)+(H15*R15)+(I15*S15)+(J15*T15)+(K15*U15)+(L15*V15)+(M15*W15)+(N15*X15) -> #DIV/0!
A16: 12 | D16: ='휴업수당 대상자'!AI16 -> 0 | E16: =COUNTA('휴업수당 대상자'!D16:AH16) -> 0 | F16: =COUNTIF('휴업수당 대상자'!$D16:$AH16,1) -> 0 | G16: =COUNTIF('휴업수당 대상자'!$D16:$AH16,2) -> 0 | H16: =COUNTIF('휴업수당 대상자'!$D16:$AH16,3) -> 0 | I16: =COUNTIF('휴업수당 대상자'!$D16:$AH16,4) -> 0 | J16: =COUNTIF('휴업수당 대상자'!$D16:$AH16,5) -> 0 | K16: =COUNTIF('휴업수당 대상자'!$D16:$AH16,6) -> 0 | L16: =COUNTIF('휴업수당 대상자'!$D16:$AH16,7) -> 0 | M16: =COUNTIF('휴업수당 대상자'!$D16:$AH16,8) -> 0 | N16: =COUNTIF('휴업수당 대상자'!$D16:$AH16,9) -> 0 | O16: ='고용유지지원금 산출내역서'!T17 -> #DIV/0! | P16: =MIN((($O16*P$4)/3*2),68100) -> #DIV/0! | Q16: =MIN((($O16*Q$4)/3*2),68100) -> #DIV/0! | R16: =MIN((($O16*R$4)/3*2),68100) -> #DIV/0! | S16: =MIN((($O16*S$4)/3*2),68100) -> #DIV/0! | T16: =MIN((($O16*T$4)/3*2),68100) -> #DIV/0! | U16: =MIN((($O16*U$4)/3*2),68100) -> #DIV/0! | V16: =MIN((($O16*V$4)/3*2),68100) -> #DIV/0! | W16: =MIN((($O16*W$4)/3*2),68100) -> #DIV/0! | X16: =MIN((($O16*X$4)/3*2),68100) -> #DIV/0! | Y16: 66000 | Z16: =AA16/2*3 -> #DIV/0! | AA16: =(F16*P16)+(G16*Q16)+(H16*R16)+(I16*S16)+(J16*T16)+(K16*U16)+(L16*V16)+(M16*W16)+(N16*X16) -> #DIV/0!
A17: 총계 | D17: =SUM(D5:D16) -> 0 | E17: =SUM(E5:E16) -> 0 | Y17: 계 | Z17: =ROUNDDOWN(SUM(Z5:Z16),-1) -> #DIV/0! | AA17: =ROUNDDOWN(SUM(AA5:AA16),-1) -> #DIV/0!
