Workbook
Name ABC: #REF!
Name Database1: #REF!
Name DB: #REF!
Name ddd: #REF!
Name dwg: '[D21300/v-engineering/project/5278/sch/5278_생산도_선장배괸.xls]선체부속'!$B$1:$D$46
Name DWG_TOTAL: #REF!
Name kty: '[D21300/v-engineering/Cheol/Sanha/Others/Yard/6037DWGlist_DPP QUP.xls]PCP(53M)'!$A$1:$G$266
Name MH: #REF!
Name TOTAL: #REF!
Name zzz: #REF!
Name 공휴일: '[C:/Users/dsme/AppData/Local/Microsoft/Windows/INetCache/IE/Q7KAYSK6/☆ 연차관리대장(2019년)SGC(동남,유성,영광포함).xlsx]공휴일계산'!$G$4:$G$28
Name 구희정: #REF!
Name 권권권: #REF!
Name 김정만: #REF!
Name ㄴㄴㄴ: #REF!
Name 납기: #REF!
Name 대상자만: #REF!
Name 대상자만202402: #REF!
Name ㅂㅂㅂ: #REF!
Name 사번: OFFSET('[N22270/v-engineering/임향미/각종양식/재직(경력)증명서.xls]직원명부관리'!$B$13,0,0,COUNTA('[N22270/v-engineering/임향미/각종양식/재직(경력)증명서.xls]직원명부관리'!$B$13:$B$65536),1)
Name 삼삼: #REF!
Name 성명: OFFSET('[N22270/v-engineering/임향미/각종양식/재직(경력)증명서.xls]직원명부관리'!$C$13,0,0,COUNTA('[N22270/v-engineering/임향미/각종양식/재직(경력)증명서.xls]직원명부관리'!$C$13:$C$65536),1)
Name 에버원: #REF!
Name 용도목록: OFFSET('[N22270/v-engineering/임향미/각종양식/재직(경력)증명서.xls]재직(경력)증명서'!$AH$10,0,0,COUNTA('[N22270/v-engineering/임향미/각종양식/재직(경력)증명서.xls]재직(경력)증명서'!$AH$10:$AH$65536),1)
Name 임향미: #REF!
Name 파트명: #REF!

Sheet 실휴업일수
C1: 데이터입력(1일휴업시간)
A2: 휴업일수(주휴포함) 산정 내용
C5: 약정휴일, 토/일요일
A6: NO. | B6: 성 명 | C6: 생년월일 | D6: 1 | E6: 2 | F6: 3 | G6: 4 | H6: 5 | I6: 6 | J6: 7 | K6: 8 | L6: 9 | M6: 10 | N6: 11 | O6: 12 | P6: 13 | Q6: 14 | R6: 15 | S6: 16 | T6: 17 | U6: 18 | V6: 19 | W6: 20 | X6: 21 | Y6: 22 | Z6: 23 | AA6: 24 | AB6: 25 | AC6: 26 | AD6: 27 | AE6: 28 | AF6: 29 | AG6: 30 | AH6: 31 | AI6: 휴업시간 | AJ6: 지원일수
A8: 1 | B8: 홍길동 | C8: 34373 | D8: 8 | E8: 8 | F8: 8 | G8: 8 | H8: 4 | J8: 주 | K8: 8 | L8: 8 | M8: 8 | N8: 8 | O8: 8 | Q8: 주 | R8: 8 | S8: 8 | T8: 8 | U8: 8 | V8: 8 | X8: 주 | Y8: 8 | Z8: 8 | AA8: 5 | AB8: 5 | AC8: 5 | AF8: 8 | AG8: 8 | AH8: 8 | AI8: =SUM(D8:AH8) -> 171 | AJ8: =COUNTA(D8:AH8) -> 26
A9: 2 | AI9: =SUM(D9:AH9) -> 0 | AJ9: =COUNTA(D9:AH9) -> 0
A10: 3 | AI10: =SUM(D10:AH10) -> 0 | AJ10: =COUNTA(D10:AH10) -> 0
A11: 4 | AI11: =SUM(D11:AH11) -> 0 | AJ11: =COUNTA(D11:AH11) -> 0
A12: 5 | AI12: =SUM(D12:AH12) -> 0 | AJ12: =COUNTA(D12:AH12) -> 0
A13: 6 | AI13: =SUM(D13:AH13) -> 0 | AJ13: =COUNTA(D13:AH13) -> 0
A14: 7 | AI14: =SUM(D14:AH14) -> 0 | AJ14: =COUNTA(D14:AH14) -> 0
A15: 8 | AI15: =SUM(D15:AH15) -> 0 | AJ15: =COUNTA(D15:AH15) -> 0
A16: 9 | AI16: =SUM(D16:AH16) -> 0 | AJ16: =COUNTA(D16:AH16) -> 0
A17: 10 | AI17: =SUM(D17:AH17) -> 0 | AJ17: =COUNTA(D17:AH17) -> 0
A18: 11 | AI18: =SUM(D18:AH18) -> 0 | AJ18: =COUNTA(D18:AH18) -> 0
A19: 12 | AI19: =SUM(D19:AH19) -> 0 | AJ19: =COUNTA(D19:AH19) -> 0
A20: 13 | AI20: =SUM(D20:AH20) -> 0 | AJ20: =COUNTA(D20:AH20) -> 0
... A24: 17 | AI24: =SUM(D24:AH24) -> 0 | AJ24: =COUNTA(D24:AH24) -> 0
A25: 계 | D25: =SUM(D8:D24) -> 8 | E25: =SUM(E8:E24) -> 8 | F25: =SUM(F8:F24) -> 8 | G25: =SUM(G8:G24) -> 8 | H25: =SUM(H8:H24) -> 4 | I25: =SUM(I8:I24) -> 0 | J25: =SUM(J8:J24) -> 0 | K25: =SUM(K8:K24) -> 8 | ... AJ25: =SUM(AJ8:AJ24) -> 26
A27: <작성방법> ○ 노란색 셀에 데이터 입력 ○ 날짜칸에는 1일 휴업시간을 아라비아 숫자로 표기 ○ 주휴일은 "주", 약정휴일은 "약"으로 표기 (단, 휴업수당을 지급한 경우에 기록)

Sheet 지원금산출내역
A2: 고용유지지원금(휴업) 산출내역서
A5: 사업장명 | G5: 데이터입력
A6: 지원월 | B6: 2026년 월분
A7: 임금보전기준 | B7: 통상임금
AI8: 인별 원단위 절사
A9: NO. | B9: 성 명 | C9: 생년월일 | D9: 통상임금 산정내역 | M9: 휴업수당 (시급) | N9: 일 지원금액 (한도 적용) | W9: 지원 시간 | X9: 지원 일수 | Y9: 일 지원시간 갯수 합계 | AH9: 휴업수당액 | AI9: 지급결정액
D10: 임금 항목 | J10: 통상임금 (일액) | K10: 통상임금 (시급) | L10: 임금보전 지급기준
D11: 기본급 | E11: 연장근무수당 | F11: 고정수당 | G11: 연차수당 | N11: 1 h | O11: 2 h | P11: 3 h | Q11: 4 h | R11: 5 h | S11: 6 h | T11: 7 h | U11: 8 h | V11: 9 h | Y11: 1 | Z11: 2 | AA11: 3 | AB11: 4 | AC11: 5 | AD11: 6 | AE11: 7 | AF11: 8 | AG11: 9
A12: 1 | B12: =실휴업일수!B8 -> 홍길동 | C12: =실휴업일수!C8 -> 34373 | D12: 2156880 | F12: 44000 | G12: 84240 | J12: =(TRUNC(SUM(D12:I12)/209))*8 -> 87464 | K12: =TRUNC(J12/8) -> 10933 | L12: 1 | M12: =K12*L12 -> 10933 | N12: =IF(M12*2/3<68100,M12*2/3,68100) -> 7288.6667 | O12: =IF((M12*2)*2/3<68100,(M12*2)*2/3,68100) -> 14577.333 | P12: =IF((M12*3)*2/3<68100,(M12*3)*2/3,68100) -> 21866 | Q12: =IF((M12*4)*2/3<68100,(M12*4)*2/3,68100) -> 29154.667 | R12: =IF((M12*5)*2/3<68100,(M12*5)*2/3,68100) -> 36443.333 | S12: =IF((M12*6)*2/3<68100,(M12*6)*2/3,68100) -> 43732 | T12: =IF((M12*7)*2/3<68100,(M12*7)*2/3,68100) -> 51020.667 | U12: =IF((M12*8)*2/3<68100,(M12*8)*2/3,68100) -> 58309.333 | V12: =IF((M12*9)*2/3<68100,(M12*9)*2/3,68100) -> 65598 | W12: =($Y$11*Y12)+($Z$11*Z12)+($AA$11*AA12)+($AB$11*AB12)+($AC$11*AC12)+($AD$11*AD12)+($AE$11*AE12)+($AF$11*AF12)+($AG$11*AG12) -> 195 | X12: =SUM(Y12:AG12) -> 26 | Y12: =COUNTIF(실휴업일수!$D8:$AH8,"1") -> 0 | Z12: =COUNTIF(실휴업일수!$D8:$AH8,"2") -> 0 | AA12: =COUNTIF(실휴업일수!$D8:$AH8,"3") -> 0 | AB12: =COUNTIF(실휴업일수!$D8:$AH8,"4") -> 1 | AC12: =COUNTIF(실휴업일수!$D8:$AH8,"5") -> 3 | AD12: =COUNTIF(실휴업일수!$D8:$AH8,"6") -> 0 | AE12: =COUNTIF(실휴업일수!$D8:$AH8,"7") -> 0 | AF12: =COUNTIF(실휴업일수!$D8:$AH8,"8")+COUNTIF(실휴업일수!$D8:$AH8,"약")+COUNTIF(실휴업일수!$D8:$AH8,"주") -> 22 | AG12: =COUNTIF(실휴업일수!$D8:$AH8,"9") -> 0 | AH12: =M12*((1*Y12)+(2*Z12)+(3*AA12)+(4*AB12)+(5*AC12)+(6*AD12)+(7*AE12)+(8*AF12)+(9*AG12)) -> 2131935 | AI12: =(N12*Y12)+(O12*Z12)+(P12*AA12)+(Q12*AB12)+(R12*AC12)+(S12*AD12)+(T12*AE12)+(U12*AF12)+(V12*AG12) -> 1421290
A13: 2 | B13: =실휴업일수!B9 -> 0 | C13: =실휴업일수!C9 -> 0 | J13: =(TRUNC(SUM(D13:I13)/209))*8 -> 0 | K13: =TRUNC(J13/8) -> 0 | M13: =K13*L13 -> 0 | N13: =IF(M13*2/3<68100,M13*2/3,68100) -> 0 | O13: =IF((M13*2)*2/3<68100,(M13*2)*2/3,68100) -> 0 | P13: =IF((M13*3)*2/3<68100,(M13*3)*2/3,68100) -> 0 | Q13: =IF((M13*4)*2/3<68100,(M13*4)*2/3,68100) -> 0 | R13: =IF((M13*5)*2/3<68100,(M13*5)*2/3,68100) -> 0 | S13: =IF((M13*6)*2/3<68100,(M13*6)*2/3,68100) -> 0 | T13: =IF((M13*7)*2/3<68100,(M13*7)*2/3,68100) -> 0 | U13: =IF((M13*8)*2/3<68100,(M13*8)*2/3,68100) -> 0 | V13: =IF((M13*9)*2/3<68100,(M13*9)*2/3,68100) -> 0 | W13: =($Y$11*Y13)+($Z$11*Z13)+($AA$11*AA13)+($AB$11*AB13)+($AC$11*AC13)+($AD$11*AD13)+($AE$11*AE13)+($AF$11*AF13)+($AG$11*AG13) -> 0 | X13: =SUM(Y13:AG13) -> 0 | Y13: =COUNTIF(실휴업일수!$D9:$AH9,"1") -> 0 | Z13: =COUNTIF(실휴업일수!$D9:$AH9,"2") -> 0 | AA13: =COUNTIF(실휴업일수!$D9:$AH9,"3") -> 0 | AB13: =COUNTIF(실휴업일수!$D9:$AH9,"4") -> 0 | AC13: =COUNTIF(실휴업일수!$D9:$AH9,"5") -> 0 | AD13: =COUNTIF(실휴업일수!$D9:$AH9,"6") -> 0 | AE13: =COUNTIF(실휴업일수!$D9:$AH9,"7") -> 0 | AF13: =COUNTIF(실휴업일수!$D9:$AH9,"8")+COUNTIF(실휴업일수!$D9:$AH9,"약")+COUNTIF(실휴업일수!$D9:$AH9,"주") -> 0 | AG13: =COUNTIF(실휴업일수!$D9:$AH9,"9") -> 0 | AH13: =M13*((1*Y13)+(2*Z13)+(3*AA13)+(4*AB13)+(5*AC13)+(6*AD13)+(7*AE13)+(8*AF13)+(9*AG13)) -> 0 | AI13: =(N13*Y13)+(O13*Z13)+(P13*AA13)+(Q13*AB13)+(R13*AC13)+(S13*AD13)+(T13*AE13)+(U13*AF13)+(V13*AG13) -> 0
A14: 3 | B14: =실휴업일수!B10 -> 0 | C14: =실휴업일수!C10 -> 0 | J14: =(TRUNC(SUM(D14:I14)/209))*8 -> 0 | K14: =TRUNC(J14/8) -> 0 | M14: =K14*L14 -> 0 | N14: =IF(M14*2/3<68100,M14*2/3,68100) -> 0 | O14: =IF((M14*2)*2/3<68100,(M14*2)*2/3,68100) -> 0 | P14: =IF((M14*3)*2/3<68100,(M14*3)*2/3,68100) -> 0 | Q14: =IF((M14*4)*2/3<68100,(M14*4)*2/3,68100) -> 0 | R14: =IF((M14*5)*2/3<68100,(M14*5)*2/3,68100) -> 0 | S14: =IF((M14*6)*2/3<68100,(M14*6)*2/3,68100) -> 0 | T14: =IF((M14*7)*2/3<68100,(M14*7)*2/3,68100) -> 0 | U14: =IF((M14*8)*2/3<68100,(M14*8)*2/3,68100) -> 0 | V14: =IF((M14*9)*2/3<68100,(M14*9)*2/3,68100) -> 0 | W14: =($Y$11*Y14)+($Z$11*Z14)+($AA$11*AA14)+($AB$11*AB14)+($AC$11*AC14)+($AD$11*AD14)+($AE$11*AE14)+($AF$11*AF14)+($AG$11*AG14) -> 0 | X14: =SUM(Y14:AG14) -> 0 | Y14: =COUNTIF(실휴업일수!$D10:$AH10,"1") -> 0 | Z14: =COUNTIF(실휴업일수!$D10:$AH10,"2") -> 0 | AA14: =COUNTIF(실휴업일수!$D10:$AH10,"3") -> 0 | AB14: =COUNTIF(실휴업일수!$D10:$AH10,"4") -> 0 | AC14: =COUNTIF(실휴업일수!$D10:$AH10,"5") -> 0 | AD14: =COUNTIF(실휴업일수!$D10:$AH10,"6") -> 0 | AE14: =COUNTIF(실휴업일수!$D10:$AH10,"7") -> 0 | AF14: =COUNTIF(실휴업일수!$D10:$AH10,"8")+COUNTIF(실휴업일수!$D10:$AH10,"약")+COUNTIF(실휴업일수!$D10:$AH10,"주") -> 0 | AG14: =COUNTIF(실휴업일수!$D10:$AH10,"9") -> 0 | AH14: =M14*((1*Y14)+(2*Z14)+(3*AA14)+(4*AB14)+(5*AC14)+(6*AD14)+(7*AE14)+(8*AF14)+(9*AG14)) -> 0 | AI14: =(N14*Y14)+(O14*Z14)+(P14*AA14)+(Q14*AB14)+(R14*AC14)+(S14*AD14)+(T14*AE14)+(U14*AF14)+(V14*AG14) -> 0
A15: 4 | B15: =실휴업일수!B11 -> 0 | C15: =실휴업일수!C11 -> 0 | J15: =(TRUNC(SUM(D15:I15)/209))*8 -> 0 | K15: =TRUNC(J15/8) -> 0 | M15: =K15*L15 -> 0 | N15: =IF(M15*2/3<68100,M15*2/3,68100) -> 0 | O15: =IF((M15*2)*2/3<68100,(M15*2)*2/3,68100) -> 0 | P15: =IF((M15*3)*2/3<68100,(M15*3)*2/3,68100) -> 0 | Q15: =IF((M15*4)*2/3<68100,(M15*4)*2/3,68100) -> 0 | R15: =IF((M15*5)*2/3<68100,(M15*5)*2/3,68100) -> 0 | S15: =IF((M15*6)*2/3<68100,(M15*6)*2/3,68100) -> 0 | T15: =IF((M15*7)*2/3<68100,(M15*7)*2/3,68100) -> 0 | U15: =IF((M15*8)*2/3<68100,(M15*8)*2/3,68100) -> 0 | V15: =IF((M15*9)*2/3<68100,(M15*9)*2/3,68100) -> 0 | W15: =($Y$11*Y15)+($Z$11*Z15)+($AA$11*AA15)+($AB$11*AB15)+($AC$11*AC15)+($AD$11*AD15)+($AE$11*AE15)+($AF$11*AF15)+($AG$11*AG15) -> 0 | X15: =SUM(Y15:AG15) -> 0 | Y15: =COUNTIF(실휴업일수!$D11:$AH11,"1") -> 0 | Z15: =COUNTIF(실휴업일수!$D11:$AH11,"2") -> 0 | AA15: =COUNTIF(실휴업일수!$D11:$AH11,"3") -> 0 | AB15: =COUNTIF(실휴업일수!$D11:$AH11,"4") -> 0 | AC15: =COUNTIF(실휴업일수!$D11:$AH11,"5") -> 0 | AD15: =COUNTIF(실휴업일수!$D11:$AH11,"6") -> 0 | AE15: =COUNTIF(실휴업일수!$D11:$AH11,"7") -> 0 | AF15: =COUNTIF(실휴업일수!$D11:$AH11,"8")+COUNTIF(실휴업일수!$D11:$AH11,"약")+COUNTIF(실휴업일수!$D11:$AH11,"주") -> 0 | AG15: =COUNTIF(실휴업일수!$D11:$AH11,"9") -> 0 | AH15: =M15*((1*Y15)+(2*Z15)+(3*AA15)+(4*AB15)+(5*AC15)+(6*AD15)+(7*AE15)+(8*AF15)+(9*AG15)) -> 0 | AI15: =(N15*Y15)+(O15*Z15)+(P15*AA15)+(Q15*AB15)+(R15*AC15)+(S15*AD15)+(T15*AE15)+(U15*AF15)+(V15*AG15) -> 0
A16: 5 | B16: =실휴업일수!B12 -> 0 | C16: =실휴업일수!C12 -> 0 | J16: =(TRUNC(SUM(D16:I16)/209))*8 -> 0 | K16: =TRUNC(J16/8) -> 0 | M16: =K16*L16 -> 0 | N16: =IF(M16*2/3<68100,M16*2/3,68100) -> 0 | O16: =IF((M16*2)*2/3<68100,(M16*2)*2/3,68100) -> 0 | P16: =IF((M16*3)*2/3<68100,(M16*3)*2/3,68100) -> 0 | Q16: =IF((M16*4)*2/3<68100,(M16*4)*2/3,68100) -> 0 | R16: =IF((M16*5)*2/3<68100,(M16*5)*2/3,68100) -> 0 | S16: =IF((M16*6)*2/3<68100,(M16*6)*2/3,68100) -> 0 | T16: =IF((M16*7)*2/3<68100,(M16*7)*2/3,68100) -> 0 | U16: =IF((M16*8)*2/3<68100,(M16*8)*2/3,68100) -> 0 | V16: =IF((M16*9)*2/3<68100,(M16*9)*2/3,68100) -> 0 | W16: =($Y$11*Y16)+($Z$11*Z16)+($AA$11*AA16)+($AB$11*AB16)+($AC$11*AC16)+($AD$11*AD16)+($AE$11*AE16)+($AF$11*AF16)+($AG$11*AG16) -> 0 | X16: =SUM(Y16:AG16) -> 0 | Y16: =COUNTIF(실휴업일수!$D12:$AH12,"1") -> 0 | Z16: =COUNTIF(실휴업일수!$D12:$AH12,"2") -> 0 | AA16: =COUNTIF(실휴업일수!$D12:$AH12,"3") -> 0 | AB16: =COUNTIF(실휴업일수!$D12:$AH12,"4") -> 0 | AC16: =COUNTIF(실휴업일수!$D12:$AH12,"5") -> 0 | AD16: =COUNTIF(실휴업일수!$D12:$AH12,"6") -> 0 | AE16: =COUNTIF(실휴업일수!$D12:$AH12,"7") -> 0 | AF16: =COUNTIF(실휴업일수!$D12:$AH12,"8")+COUNTIF(실휴업일수!$D12:$AH12,"약")+COUNTIF(실휴업일수!$D12:$AH12,"주") -> 0 | AG16: =COUNTIF(실휴업일수!$D12:$AH12,"9") -> 0 | AH16: =M16*((1*Y16)+(2*Z16)+(3*AA16)+(4*AB16)+(5*AC16)+(6*AD16)+(7*AE16)+(8*AF16)+(9*AG16)) -> 0 | AI16: =(N16*Y16)+(O16*Z16)+(P16*AA16)+(Q16*AB16)+(R16*AC16)+(S16*AD16)+(T16*AE16)+(U16*AF16)+(V16*AG16) -> 0
A17: 6 | B17: =실휴업일수!B13 -> 0 | C17: =실휴업일수!C13 -> 0 | J17: =(TRUNC(SUM(D17:I17)/209))*8 -> 0 | K17: =TRUNC(J17/8) -> 0 | M17: =K17*L17 -> 0 | N17: =IF(M17*2/3<68100,M17*2/3,68100) -> 0 | O17: =IF((M17*2)*2/3<68100,(M17*2)*2/3,68100) -> 0 | P17: =IF((M17*3)*2/3<68100,(M17*3)*2/3,68100) -> 0 | Q17: =IF((M17*4)*2/3<68100,(M17*4)*2/3,68100) -> 0 | R17: =IF((M17*5)*2/3<68100,(M17*5)*2/3,68100) -> 0 | S17: =IF((M17*6)*2/3<68100,(M17*6)*2/3,68100) -> 0 | T17: =IF((M17*7)*2/3<68100,(M17*7)*2/3,68100) -> 0 | U17: =IF((M17*8)*2/3<68100,(M17*8)*2/3,68100) -> 0 | V17: =IF((M17*9)*2/3<68100,(M17*9)*2/3,68100) -> 0 | W17: =($Y$11*Y17)+($Z$11*Z17)+($AA$11*AA17)+($AB$11*AB17)+($AC$11*AC17)+($AD$11*AD17)+($AE$11*AE17)+($AF$11*AF17)+($AG$11*AG17) -> 0 | X17: =SUM(Y17:AG17) -> 0 | Y17: =COUNTIF(실휴업일수!$D13:$AH13,"1") -> 0 | Z17: =COUNTIF(실휴업일수!$D13:$AH13,"2") -> 0 | AA17: =COUNTIF(실휴업일수!$D13:$AH13,"3") -> 0 | AB17: =COUNTIF(실휴업일수!$D13:$AH13,"4") -> 0 | AC17: =COUNTIF(실휴업일수!$D13:$AH13,"5") -> 0 | AD17: =COUNTIF(실휴업일수!$D13:$AH13,"6") -> 0 | AE17: =COUNTIF(실휴업일수!$D13:$AH13,"7") -> 0 | AF17: =COUNTIF(실휴업일수!$D13:$AH13,"8")+COUNTIF(실휴업일수!$D13:$AH13,"약")+COUNTIF(실휴업일수!$D13:$AH13,"주") -> 0 | AG17: =COUNTIF(실휴업일수!$D13:$AH13,"9") -> 0 | AH17: =M17*((1*Y17)+(2*Z17)+(3*AA17)+(4*AB17)+(5*AC17)+(6*AD17)+(7*AE17)+(8*AF17)+(9*AG17)) -> 0 | AI17: =(N17*Y17)+(O17*Z17)+(P17*AA17)+(Q17*AB17)+(R17*AC17)+(S17*AD17)+(T17*AE17)+(U17*AF17)+(V17*AG17) -> 0
A18: 7 | B18: =실휴업일수!B14 -> 0 | C18: =실휴업일수!C14 -> 0 | J18: =(TRUNC(SUM(D18:I18)/209))*8 -> 0 | K18: =TRUNC(J18/8) -> 0 | M18: =K18*L18 -> 0 | N18: =IF(M18*2/3<68100,M18*2/3,68100) -> 0 | O18: =IF((M18*2)*2/3<68100,(M18*2)*2/3,68100) -> 0 | P18: =IF((M18*3)*2/3<68100,(M18*3)*2/3,68100) -> 0 | Q18: =IF((M18*4)*2/3<68100,(M18*4)*2/3,68100) -> 0 | R18: =IF((M18*5)*2/3<68100,(M18*5)*2/3,68100) -> 0 | S18: =IF((M18*6)*2/3<68100,(M18*6)*2/3,68100) -> 0 | T18: =IF((M18*7)*2/3<68100,(M18*7)*2/3,68100) -> 0 | U18: =IF((M18*8)*2/3<68100,(M18*8)*2/3,68100) -> 0 | V18: =IF((M18*9)*2/3<68100,(M18*9)*2/3,68100) -> 0 | W18: =($Y$11*Y18)+($Z$11*Z18)+($AA$11*AA18)+($AB$11*AB18)+($AC$11*AC18)+($AD$11*AD18)+($AE$11*AE18)+($AF$11*AF18)+($AG$11*AG18) -> 0 | X18: =SUM(Y18:AG18) -> 0 | Y18: =COUNTIF(실휴업일수!$D14:$AH14,"1") -> 0 | Z18: =COUNTIF(실휴업일수!$D14:$AH14,"2") -> 0 | AA18: =COUNTIF(실휴업일수!$D14:$AH14,"3") -> 0 | AB18: =COUNTIF(실휴업일수!$D14:$AH14,"4") -> 0 | AC18: =COUNTIF(실휴업일수!$D14:$AH14,"5") -> 0 | AD18: =COUNTIF(실휴업일수!$D14:$AH14,"6") -> 0 | AE18: =COUNTIF(실휴업일수!$D14:$AH14,"7") -> 0 | AF18: =COUNTIF(실휴업일수!$D14:$AH14,"8")+COUNTIF(실휴업일수!$D14:$AH14,"약")+COUNTIF(실휴업일수!$D14:$AH14,"주") -> 0 | AG18: =COUNTIF(실휴업일수!$D14:$AH14,"9") -> 0 | AH18: =M18*((1*Y18)+(2*Z18)+(3*AA18)+(4*AB18)+(5*AC18)+(6*AD18)+(7*AE18)+(8*AF18)+(9*AG18)) -> 0 | AI18: =(N18*Y18)+(O18*Z18)+(P18*AA18)+(Q18*AB18)+(R18*AC18)+(S18*AD18)+(T18*AE18)+(U18*AF18)+(V18*AG18) -> 0
A19: 8 | B19: =실휴업일수!B15 -> 0 | C19: =실휴업일수!C15 -> 0 | J19: =(TRUNC(SUM(D19:I19)/209))*8 -> 0 | K19: =TRUNC(J19/8) -> 0 | M19: =K19*L19 -> 0 | N19: =IF(M19*2/3<68100,M19*2/3,68100) -> 0 | O19: =IF((M19*2)*2/3<68100,(M19*2)*2/3,68100) -> 0 | P19: =IF((M19*3)*2/3<68100,(M19*3)*2/3,68100) -> 0 | Q19: =IF((M19*4)*2/3<68100,(M19*4)*2/3,68100) -> 0 | R19: =IF((M19*5)*2/3<68100,(M19*5)*2/3,68100) -> 0 | S19: =IF((M19*6)*2/3<68100,(M19*6)*2/3,68100) -> 0 | T19: =IF((M19*7)*2/3<68100,(M19*7)*2/3,68100) -> 0 | U19: =IF((M19*8)*2/3<68100,(M19*8)*2/3,68100) -> 0 | V19: =IF((M19*9)*2/3<68100,(M19*9)*2/3,68100) -> 0 | W19: =($Y$11*Y19)+($Z$11*Z19)+($AA$11*AA19)+($AB$11*AB19)+($AC$11*AC19)+($AD$11*AD19)+($AE$11*AE19)+($AF$11*AF19)+($AG$11*AG19) -> 0 | X19: =SUM(Y19:AG19) -> 0 | Y19: =COUNTIF(실휴업일수!$D15:$AH15,"1") -> 0 | Z19: =COUNTIF(실휴업일수!$D15:$AH15,"2") -> 0 | AA19: =COUNTIF(실휴업일수!$D15:$AH15,"3") -> 0 | AB19: =COUNTIF(실휴업일수!$D15:$AH15,"4") -> 0 | AC19: =COUNTIF(실휴업일수!$D15:$AH15,"5") -> 0 | AD19: =COUNTIF(실휴업일수!$D15:$AH15,"6") -> 0 | AE19: =COUNTIF(실휴업일수!$D15:$AH15,"7") -> 0 | AF19: =COUNTIF(실휴업일수!$D15:$AH15,"8")+COUNTIF(실휴업일수!$D15:$AH15,"약")+COUNTIF(실휴업일수!$D15:$AH15,"주") -> 0 | AG19: =COUNTIF(실휴업일수!$D15:$AH15,"9") -> 0 | AH19: =M19*((1*Y19)+(2*Z19)+(3*AA19)+(4*AB19)+(5*AC19)+(6*AD19)+(7*AE19)+(8*AF19)+(9*AG19)) -> 0 | AI19: =(N19*Y19)+(O19*Z19)+(P19*AA19)+(Q19*AB19)+(R19*AC19)+(S19*AD19)+(T19*AE19)+(U19*AF19)+(V19*AG19) -> 0
A20: 9 | B20: =실휴업일수!B16 -> 0 | C20: =실휴업일수!C16 -> 0 | J20: =(TRUNC(SUM(D20:I20)/209))*8 -> 0 | K20: =TRUNC(J20/8) -> 0 | M20: =K20*L20 -> 0 | N20: =IF(M20*2/3<68100,M20*2/3,68100) -> 0 | O20: =IF((M20*2)*2/3<68100,(M20*2)*2/3,68100) -> 0 | P20: =IF((M20*3)*2/3<68100,(M20*3)*2/3,68100) -> 0 | Q20: =IF((M20*4)*2/3<68100,(M20*4)*2/3,68100) -> 0 | R20: =IF((M20*5)*2/3<68100,(M20*5)*2/3,68100) -> 0 | S20: =IF((M20*6)*2/3<68100,(M20*6)*2/3,68100) -> 0 | T20: =IF((M20*7)*2/3<68100,(M20*7)*2/3,68100) -> 0 | U20: =IF((M20*8)*2/3<68100,(M20*8)*2/3,68100) -> 0 | V20: =IF((M20*9)*2/3<68100,(M20*9)*2/3,68100) -> 0 | W20: =($Y$11*Y20)+($Z$11*Z20)+($AA$11*AA20)+($AB$11*AB20)+($AC$11*AC20)+($AD$11*AD20)+($AE$11*AE20)+($AF$11*AF20)+($AG$11*AG20) -> 0 | X20: =SUM(Y20:AG20) -> 0 | Y20: =COUNTIF(실휴업일수!$D16:$AH16,"1") -> 0 | Z20: =COUNTIF(실휴업일수!$D16:$AH16,"2") -> 0 | AA20: =COUNTIF(실휴업일수!$D16:$AH16,"3") -> 0 | AB20: =COUNTIF(실휴업일수!$D16:$AH16,"4") -> 0 | AC20: =COUNTIF(실휴업일수!$D16:$AH16,"5") -> 0 | AD20: =COUNTIF(실휴업일수!$D16:$AH16,"6") -> 0 | AE20: =COUNTIF(실휴업일수!$D16:$AH16,"7") -> 0 | AF20: =COUNTIF(실휴업일수!$D16:$AH16,"8")+COUNTIF(실휴업일수!$D16:$AH16,"약")+COUNTIF(실휴업일수!$D16:$AH16,"주") -> 0 | AG20: =COUNTIF(실휴업일수!$D16:$AH16,"9") -> 0 | AH20: =M20*((1*Y20)+(2*Z20)+(3*AA20)+(4*AB20)+(5*AC20)+(6*AD20)+(7*AE20)+(8*AF20)+(9*AG20)) -> 0 | AI20: =(N20*Y20)+(O20*Z20)+(P20*AA20)+(Q20*AB20)+(R20*AC20)+(S20*AD20)+(T20*AE20)+(U20*AF20)+(V20*AG20) -> 0
A21: 10 | B21: =실휴업일수!B17 -> 0 | C21: =실휴업일수!C17 -> 0 | J21: =(TRUNC(SUM(D21:I21)/209))*8 -> 0 | K21: =TRUNC(J21/8) -> 0 | M21: =K21*L21 -> 0 | N21: =IF(M21*2/3<68100,M21*2/3,68100) -> 0 | O21: =IF((M21*2)*2/3<68100,(M21*2)*2/3,68100) -> 0 | P21: =IF((M21*3)*2/3<68100,(M21*3)*2/3,68100) -> 0 | Q21: =IF((M21*4)*2/3<68100,(M21*4)*2/3,68100) -> 0 | R21: =IF((M21*5)*2/3<68100,(M21*5)*2/3,68100) -> 0 | S21: =IF((M21*6)*2/3<68100,(M21*6)*2/3,68100) -> 0 | T21: =IF((M21*7)*2/3<68100,(M21*7)*2/3,68100) -> 0 | U21: =IF((M21*8)*2/3<68100,(M21*8)*2/3,68100) -> 0 | V21: =IF((M21*9)*2/3<68100,(M21*9)*2/3,68100) -> 0 | W21: =($Y$11*Y21)+($Z$11*Z21)+($AA$11*AA21)+($AB$11*AB21)+($AC$11*AC21)+($AD$11*AD21)+($AE$11*AE21)+($AF$11*AF21)+($AG$11*AG21) -> 0 | X21: =SUM(Y21:AG21) -> 0 | Y21: =COUNTIF(실휴업일수!$D17:$AH17,"1") -> 0 | Z21: =COUNTIF(실휴업일수!$D17:$AH17,"2") -> 0 | AA21: =COUNTIF(실휴업일수!$D17:$AH17,"3") -> 0 | AB21: =COUNTIF(실휴업일수!$D17:$AH17,"4") -> 0 | AC21: =COUNTIF(실휴업일수!$D17:$AH17,"5") -> 0 | AD21: =COUNTIF(실휴업일수!$D17:$AH17,"6") -> 0 | AE21: =COUNTIF(실휴업일수!$D17:$AH17,"7") -> 0 | AF21: =COUNTIF(실휴업일수!$D17:$AH17,"8")+COUNTIF(실휴업일수!$D17:$AH17,"약")+COUNTIF(실휴업일수!$D17:$AH17,"주") -> 0 | AG21: =COUNTIF(실휴업일수!$D17:$AH17,"9") -> 0 | AH21: =M21*((1*Y21)+(2*Z21)+(3*AA21)+(4*AB21)+(5*AC21)+(6*AD21)+(7*AE21)+(8*AF21)+(9*AG21)) -> 0 | AI21: =(N21*Y21)+(O21*Z21)+(P21*AA21)+(Q21*AB21)+(R21*AC21)+(S21*AD21)+(T21*AE21)+(U21*AF21)+(V21*AG21) -> 0
A22: 11 | B22: =실휴업일수!B18 -> 0 | C22: =실휴업일수!C18 -> 0 | J22: =(TRUNC(SUM(D22:I22)/209))*8 -> 0 | K22: =TRUNC(J22/8) -> 0 | M22: =K22*L22 -> 0 | N22: =IF(M22*2/3<68100,M22*2/3,68100) -> 0 | O22: =IF((M22*2)*2/3<68100,(M22*2)*2/3,68100) -> 0 | P22: =IF((M22*3)*2/3<68100,(M22*3)*2/3,68100) -> 0 | Q22: =IF((M22*4)*2/3<68100,(M22*4)*2/3,68100) -> 0 | R22: =IF((M22*5)*2/3<68100,(M22*5)*2/3,68100) -> 0 | S22: =IF((M22*6)*2/3<68100,(M22*6)*2/3,68100) -> 0 | T22: =IF((M22*7)*2/3<68100,(M22*7)*2/3,68100) -> 0 | U22: =IF((M22*8)*2/3<68100,(M22*8)*2/3,68100) -> 0 | V22: =IF((M22*9)*2/3<68100,(M22*9)*2/3,68100) -> 0 | W22: =($Y$11*Y22)+($Z$11*Z22)+($AA$11*AA22)+($AB$11*AB22)+($AC$11*AC22)+($AD$11*AD22)+($AE$11*AE22)+($AF$11*AF22)+($AG$11*AG22) -> 0 | X22: =SUM(Y22:AG22) -> 0 | Y22: =COUNTIF(실휴업일수!$D18:$AH18,"1") -> 0 | Z22: =COUNTIF(실휴업일수!$D18:$AH18,"2") -> 0 | AA22: =COUNTIF(실휴업일수!$D18:$AH18,"3") -> 0 | AB22: =COUNTIF(실휴업일수!$D18:$AH18,"4") -> 0 | AC22: =COUNTIF(실휴업일수!$D18:$AH18,"5") -> 0 | AD22: =COUNTIF(실휴업일수!$D18:$AH18,"6") -> 0 | AE22: =COUNTIF(실휴업일수!$D18:$AH18,"7") -> 0 | AF22: =COUNTIF(실휴업일수!$D18:$AH18,"8")+COUNTIF(실휴업일수!$D18:$AH18,"약")+COUNTIF(실휴업일수!$D18:$AH18,"주") -> 0 | AG22: =COUNTIF(실휴업일수!$D18:$AH18,"9") -> 0 | AH22: =M22*((1*Y22)+(2*Z22)+(3*AA22)+(4*AB22)+(5*AC22)+(6*AD22)+(7*AE22)+(8*AF22)+(9*AG22)) -> 0 | AI22: =(N22*Y22)+(O22*Z22)+(P22*AA22)+(Q22*AB22)+(R22*AC22)+(S22*AD22)+(T22*AE22)+(U22*AF22)+(V22*AG22) -> 0
A23: 12 | B23: =실휴업일수!B19 -> 0 | C23: =실휴업일수!C19 -> 0 | J23: =(TRUNC(SUM(D23:I23)/209))*8 -> 0 | K23: =TRUNC(J23/8) -> 0 | M23: =K23*L23 -> 0 | N23: =IF(M23*2/3<68100,M23*2/3,68100) -> 0 | O23: =IF((M23*2)*2/3<68100,(M23*2)*2/3,68100) -> 0 | P23: =IF((M23*3)*2/3<68100,(M23*3)*2/3,68100) -> 0 | Q23: =IF((M23*4)*2/3<68100,(M23*4)*2/3,68100) -> 0 | R23: =IF((M23*5)*2/3<68100,(M23*5)*2/3,68100) -> 0 | S23: =IF((M23*6)*2/3<68100,(M23*6)*2/3,68100) -> 0 | T23: =IF((M23*7)*2/3<68100,(M23*7)*2/3,68100) -> 0 | U23: =IF((M23*8)*2/3<68100,(M23*8)*2/3,68100) -> 0 | V23: =IF((M23*9)*2/3<68100,(M23*9)*2/3,68100) -> 0 | W23: =($Y$11*Y23)+($Z$11*Z23)+($AA$11*AA23)+($AB$11*AB23)+($AC$11*AC23)+($AD$11*AD23)+($AE$11*AE23)+($AF$11*AF23)+($AG$11*AG23) -> 0 | X23: =SUM(Y23:AG23) -> 0 | Y23: =COUNTIF(실휴업일수!$D19:$AH19,"1") -> 0 | Z23: =COUNTIF(실휴업일수!$D19:$AH19,"2") -> 0 | AA23: =COUNTIF(실휴업일수!$D19:$AH19,"3") -> 0 | AB23: =COUNTIF(실휴업일수!$D19:$AH19,"4") -> 0 | AC23: =COUNTIF(실휴업일수!$D19:$AH19,"5") -> 0 | AD23: =COUNTIF(실휴업일수!$D19:$AH19,"6") -> 0 | AE23: =COUNTIF(실휴업일수!$D19:$AH19,"7") -> 0 | AF23: =COUNTIF(실휴업일수!$D19:$AH19,"8")+COUNTIF(실휴업일수!$D19:$AH19,"약")+COUNTIF(실휴업일수!$D19:$AH19,"주") -> 0 | AG23: =COUNTIF(실휴업일수!$D19:$AH19,"9") -> 0 | AH23: =M23*((1*Y23)+(2*Z23)+(3*AA23)+(4*AB23)+(5*AC23)+(6*AD23)+(7*AE23)+(8*AF23)+(9*AG23)) -> 0 | AI23: =(N23*Y23)+(O23*Z23)+(P23*AA23)+(Q23*AB23)+(R23*AC23)+(S23*AD23)+(T23*AE23)+(U23*AF23)+(V23*AG23) -> 0
A24: 13 | B24: =실휴업일수!B20 -> 0 | C24: =실휴업일수!C20 -> 0 | J24: =(TRUNC(SUM(D24:I24)/209))*8 -> 0 | K24: =TRUNC(J24/8) -> 0 | M24: =K24*L24 -> 0 | N24: =IF(M24*2/3<68100,M24*2/3,68100) -> 0 | O24: =IF((M24*2)*2/3<68100,(M24*2)*2/3,68100) -> 0 | P24: =IF((M24*3)*2/3<68100,(M24*3)*2/3,68100) -> 0 | Q24: =IF((M24*4)*2/3<68100,(M24*4)*2/3,68100) -> 0 | R24: =IF((M24*5)*2/3<68100,(M24*5)*2/3,68100) -> 0 | S24: =IF((M24*6)*2/3<68100,(M24*6)*2/3,68100) -> 0 | T24: =IF((M24*7)*2/3<68100,(M24*7)*2/3,68100) -> 0 | U24: =IF((M24*8)*2/3<68100,(M24*8)*2/3,68100) -> 0 | V24: =IF((M24*9)*2/3<68100,(M24*9)*2/3,68100) -> 0 | W24: =($Y$11*Y24)+($Z$11*Z24)+($AA$11*AA24)+($AB$11*AB24)+($AC$11*AC24)+($AD$11*AD24)+($AE$11*AE24)+($AF$11*AF24)+($AG$11*AG24) -> 0 | X24: =SUM(Y24:AG24) -> 0 | Y24: =COUNTIF(실휴업일수!$D20:$AH20,"1") -> 0 | Z24: =COUNTIF(실휴업일수!$D20:$AH20,"2") -> 0 | AA24: =COUNTIF(실휴업일수!$D20:$AH20,"3") -> 0 | AB24: =COUNTIF(실휴업일수!$D20:$AH20,"4") -> 0 | AC24: =COUNTIF(실휴업일수!$D20:$AH20,"5") -> 0 | AD24: =COUNTIF(실휴업일수!$D20:$AH20,"6") -> 0 | AE24: =COUNTIF(실휴업일수!$D20:$AH20,"7") -> 0 | AF24: =COUNTIF(실휴업일수!$D20:$AH20,"8")+COUNTIF(실휴업일수!$D20:$AH20,"약")+COUNTIF(실휴업일수!$D20:$AH20,"주") -> 0 | AG24: =COUNTIF(실휴업일수!$D20:$AH20,"9") -> 0 | AH24: =M24*((1*Y24)+(2*Z24)+(3*AA24)+(4*AB24)+(5*AC24)+(6*AD24)+(7*AE24)+(8*AF24)+(9*AG24)) -> 0 | AI24: =(N24*Y24)+(O24*Z24)+(P24*AA24)+(Q24*AB24)+(R24*AC24)+(S24*AD24)+(T24*AE24)+(U24*AF24)+(V24*AG24) -> 0
... A28: 17 | B28: =실휴업일수!B24 -> 0 | C28: =실휴업일수!C24 -> 0 | J28: =(TRUNC(SUM(D28:I28)/209))*8 -> 0 | K28: =TRUNC(J28/8) -> 0 | M28: =K28*L28 -> 0 | N28: =IF(M28*2/3<68100,M28*2/3,68100) -> 0 | O28: =IF((M28*2)*2/3<68100,(M28*2)*2/3,68100) -> 0 | P28: =IF((M28*3)*2/3<68100,(M28*3)*2/3,68100) -> 0 | Q28: =IF((M28*4)*2/3<68100,(M28*4)*2/3,68100) -> 0 | R28: =IF((M28*5)*2/3<68100,(M28*5)*2/3,68100) -> 0 | S28: =IF((M28*6)*2/3<68100,(M28*6)*2/3,68100) -> 0 | T28: =IF((M28*7)*2/3<68100,(M28*7)*2/3,68100) -> 0 | U28: =IF((M28*8)*2/3<68100,(M28*8)*2/3,68100) -> 0 | V28: =IF((M28*9)*2/3<68100,(M28*9)*2/3,68100) -> 0 | W28: =($Y$11*Y28)+($Z$11*Z28)+($AA$11*AA28)+($AB$11*AB28)+($AC$11*AC28)+($AD$11*AD28)+($AE$11*AE28)+($AF$11*AF28)+($AG$11*AG28) -> 0 | X28: =SUM(Y28:AG28) -> 0 | Y28: =COUNTIF(실휴업일수!$D24:$AH24,"1") -> 0 | Z28: =COUNTIF(실휴업일수!$D24:$AH24,"2") -> 0 | AA28: =COUNTIF(실휴업일수!$D24:$AH24,"3") -> 0 | AB28: =COUNTIF(실휴업일수!$D24:$AH24,"4") -> 0 | AC28: =COUNTIF(실휴업일수!$D24:$AH24,"5") -> 0 | AD28: =COUNTIF(실휴업일수!$D24:$AH24,"6") -> 0 | AE28: =COUNTIF(실휴업일수!$D24:$AH24,"7") -> 0 | AF28: =COUNTIF(실휴업일수!$D24:$AH24,"8")+COUNTIF(실휴업일수!$D24:$AH24,"약")+COUNTIF(실휴업일수!$D24:$AH24,"주") -> 0 | AG28: =COUNTIF(실휴업일수!$D24:$AH24,"9") -> 0 | AH28: =M28*((1*Y28)+(2*Z28)+(3*AA28)+(4*AB28)+(5*AC28)+(6*AD28)+(7*AE28)+(8*AF28)+(9*AG28)) -> 0 | AI28: =(N28*Y28)+(O28*Z28)+(P28*AA28)+(Q28*AB28)+(R28*AC28)+(S28*AD28)+(T28*AE28)+(U28*AF28)+(V28*AG28) -> 0
A29: 계 | D29: =SUM(D12:D28) -> 2156880 | G29: =SUM(G12:G28) -> 84240 | H29: =SUM(H12:H28) -> 0 | I29: =SUM(I12:I28) -> 0 | J29: =SUM(J12:J28) -> 87464 | K29: =TRUNC(J29/8) -> 10933 | M29: =SUM(M12:M28) -> 10933 | W29: =SUM(W12:W28) -> 195 | X29: =SUM(Y29:AG29) -> 26 | Y29: =SUM(Y12:Y28) -> 0 | Z29: =SUM(Z12:Z28) -> 0 | AA29: =SUM(AA12:AA28) -> 0 | AB29: =SUM(AB12:AB28) -> 1 | AC29: =SUM(AC12:AC28) -> 3 | AD29: =SUM(AD12:AD28) -> 0 | AE29: =SUM(AE12:AE28) -> 0 | AF29: =SUM(AF12:AF28) -> 22 | ... AI29: =SUM(AI12:AI28) -> 1421290
AI31: 7급 김인성
